BEGIN:VCALENDAR
VERSION:2.0
PRODID:-//Santa Fe Desert Chorale - ECPv6.15.20//NONSGML v1.0//EN
CALSCALE:GREGORIAN
METHOD:PUBLISH
X-ORIGINAL-URL:https://desertchorale.org
X-WR-CALDESC:Events for Santa Fe Desert Chorale
REFRESH-INTERVAL;VALUE=DURATION:PT1H
X-Robots-Tag:noindex
X-PUBLISHED-TTL:PT1H
BEGIN:VTIMEZONE
TZID:America/Denver
BEGIN:DAYLIGHT
TZOFFSETFROM:-0700
TZOFFSETTO:-0600
TZNAME:MDT
DTSTART:20230312T090000
END:DAYLIGHT
BEGIN:STANDARD
TZOFFSETFROM:-0600
TZOFFSETTO:-0700
TZNAME:MST
DTSTART:20231105T080000
END:STANDARD
BEGIN:DAYLIGHT
TZOFFSETFROM:-0700
TZOFFSETTO:-0600
TZNAME:MDT
DTSTART:20240310T090000
END:DAYLIGHT
BEGIN:STANDARD
TZOFFSETFROM:-0600
TZOFFSETTO:-0700
TZNAME:MST
DTSTART:20241103T080000
END:STANDARD
BEGIN:DAYLIGHT
TZOFFSETFROM:-0700
TZOFFSETTO:-0600
TZNAME:MDT
DTSTART:20250309T090000
END:DAYLIGHT
BEGIN:STANDARD
TZOFFSETFROM:-0600
TZOFFSETTO:-0700
TZNAME:MST
DTSTART:20251102T080000
END:STANDARD
END:VTIMEZONE
BEGIN:VEVENT
DTSTART;TZID=America/Denver:20240801T193000
DTEND;TZID=America/Denver:20240801T203000
DTSTAMP:20260420T153741
CREATED:20231206T230059Z
LAST-MODIFIED:20231206T230059Z
UID:10000078-1722540600-1722544200@desertchorale.org
SUMMARY:Songs of the Americas
DESCRIPTION:The 2024 Summer Festival is sponsored by an Anonymous Donor\nProgram sponsored by Suzanne M. Timble\nJoshua Habermann\, conductor sponsored by Carmen Paradis and Brian McGrath\nEmbark on a musical expedition as sixteen professional Desert Chorale artists accompanied by chamber orchestra and percussion explore the rich heritage of 17th and 18th century music from North and South America. Experience the toe-tapping melodies and soul-stirring harmonies of works by Latin American Baroque composers. Then\, return to the present with selections from the modern Mass of the Americas by Frank La Rocca\, in which he melds together “tones of Western church music with those of traditional Mexican folk songs.” Debuted in 2018\, this “cornerstone of modern liturgical composition” (Mark Nowakowski) incorporates texts in Spanish\, Latin\, and Nahuatl (the indigenous language of the Aztecs).
URL:https://desertchorale.org/event/songs-of-the-americas/2024-08-01/
LOCATION:The Cathedral Basilica of St. Francis of Assisi\, 131 Cathedral Pl\, Santa Fe\, NM\, 87501\, United States
CATEGORIES:Concert Program
ATTACH;FMTTYPE=image/png:https://desertchorale.org/wp2021/wp-content/uploads/SFDC_2024_16-9_1024x576_AMERICAS.png
END:VEVENT
BEGIN:VEVENT
DTSTART;TZID=America/Denver:20240802T193000
DTEND;TZID=America/Denver:20240802T203000
DTSTAMP:20260420T153741
CREATED:20231209T164224Z
LAST-MODIFIED:20240216T163220Z
UID:10000099-1722627000-1722630600@desertchorale.org
SUMMARY:The Great Romantics
DESCRIPTION:The 2024 Summer Festival is sponsored by an Anonymous Donor\nProgram sponsored by Catherine and Guy Gronquist\nJoshua Habermann\, conductor sponsored by Carmen Paradis and Brian McGrath\nImmerse yourself in the lush harmonies\, sweeping melodies\, and tender poetry of the German Romantics. Impressive works of Johannes Brahms bookend a sublime set of vocal chamber music by Franz Schubert and Robert Schumann featuring several Desert Chorale artists as soloists\, all with lyrics and music that delve into the depths of human emotion. The twenty-four professional Desert Chorale singers accompanied by piano bring to life a spectacular sampling from these giants of the Western classical tradition. Come and experience these vocal masterworks of the 19th century like you’ve never heard them before.
URL:https://desertchorale.org/event/the-great-romantics/2024-08-02/
LOCATION:The Cathedral Basilica of St. Francis of Assisi\, 131 Cathedral Pl\, Santa Fe\, NM\, 87501\, United States
CATEGORIES:Concert Program
ATTACH;FMTTYPE=image/png:https://desertchorale.org/wp2021/wp-content/uploads/SFDC_2024_16-9_1024x576_ROMANTICS.png
END:VEVENT
BEGIN:VEVENT
DTSTART;TZID=America/Denver:20240803T193000
DTEND;TZID=America/Denver:20240803T203000
DTSTAMP:20260420T153741
CREATED:20231206T230830Z
LAST-MODIFIED:20231206T230830Z
UID:10000084-1722713400-1722717000@desertchorale.org
SUMMARY:Out of This World
DESCRIPTION:The 2024 Summer Festival is sponsored by an Anonymous Donor\nProgram sponsored by Elaine Wang Meyerhoffer\nJoshua Habermann\, conductor sponsored by Carmen Paradis and Brian McGrath\nSpend an evening soaring the skies as you experience the uplifting power of great choral music\, including works from some of the world’s top living composers. Join the twenty-four professional Desert Chorale artists as they traverse extraterrestrial beauty and thrills\, making a stop by the ethereal Northern Lights along the way. Plus\, be the first to experience not just one but two world premieres! First\, our 2024 commissioned composer Daniel Knaggs will dazzle you with a brand new piece which will “explore the splendor of the cosmos\, reflecting also on the meaning of our human existence.” Then\, as a new partner with Chicago a cappella’s HerVoice competition and mentorship program for up-and-coming women composers\, the Desert Chorale is honored to present a work by winner Andelena Jackson from Hagerstown\, MD. Prepare to be filled with awe and wonder on a musical journey for the ears and the soul.
URL:https://desertchorale.org/event/out-of-this-world/2024-08-03/
LOCATION:The Cathedral Basilica of St. Francis of Assisi\, 131 Cathedral Pl\, Santa Fe\, NM\, 87501\, United States
CATEGORIES:Concert Program
ATTACH;FMTTYPE=image/png:https://desertchorale.org/wp2021/wp-content/uploads/SFDC_2024_16-9_1024x576_AURORA.png
END:VEVENT
END:VCALENDAR