BEGIN:VCALENDAR
VERSION:2.0
PRODID:-//Santa Fe Desert Chorale - ECPv6.15.20//NONSGML v1.0//EN
CALSCALE:GREGORIAN
METHOD:PUBLISH
X-WR-CALNAME:Santa Fe Desert Chorale
X-ORIGINAL-URL:https://desertchorale.org
X-WR-CALDESC:Events for Santa Fe Desert Chorale
REFRESH-INTERVAL;VALUE=DURATION:PT1H
X-Robots-Tag:noindex
X-PUBLISHED-TTL:PT1H
BEGIN:VTIMEZONE
TZID:America/Denver
BEGIN:DAYLIGHT
TZOFFSETFROM:-0700
TZOFFSETTO:-0600
TZNAME:MDT
DTSTART:20230312T090000
END:DAYLIGHT
BEGIN:STANDARD
TZOFFSETFROM:-0600
TZOFFSETTO:-0700
TZNAME:MST
DTSTART:20231105T080000
END:STANDARD
BEGIN:DAYLIGHT
TZOFFSETFROM:-0700
TZOFFSETTO:-0600
TZNAME:MDT
DTSTART:20240310T090000
END:DAYLIGHT
BEGIN:STANDARD
TZOFFSETFROM:-0600
TZOFFSETTO:-0700
TZNAME:MST
DTSTART:20241103T080000
END:STANDARD
BEGIN:DAYLIGHT
TZOFFSETFROM:-0700
TZOFFSETTO:-0600
TZNAME:MDT
DTSTART:20250309T090000
END:DAYLIGHT
BEGIN:STANDARD
TZOFFSETFROM:-0600
TZOFFSETTO:-0700
TZNAME:MST
DTSTART:20251102T080000
END:STANDARD
END:VTIMEZONE
BEGIN:VEVENT
DTSTART;TZID=America/Denver:20240714T160000
DTEND;TZID=America/Denver:20240714T170000
DTSTAMP:20260420T153344
CREATED:20231206T230059Z
LAST-MODIFIED:20231206T230059Z
UID:10000076-1720972800-1720976400@desertchorale.org
SUMMARY:Songs of the Americas
DESCRIPTION:The 2024 Summer Festival is sponsored by an Anonymous Donor\nProgram sponsored by Suzanne M. Timble\nJoshua Habermann\, conductor sponsored by Carmen Paradis and Brian McGrath\nEmbark on a musical expedition as sixteen professional Desert Chorale artists accompanied by chamber orchestra and percussion explore the rich heritage of 17th and 18th century music from North and South America. Experience the toe-tapping melodies and soul-stirring harmonies of works by Latin American Baroque composers. Then\, return to the present with selections from the modern Mass of the Americas by Frank La Rocca\, in which he melds together “tones of Western church music with those of traditional Mexican folk songs.” Debuted in 2018\, this “cornerstone of modern liturgical composition” (Mark Nowakowski) incorporates texts in Spanish\, Latin\, and Nahuatl (the indigenous language of the Aztecs).
URL:https://desertchorale.org/event/songs-of-the-americas/2024-07-14/
LOCATION:The Cathedral Basilica of St. Francis of Assisi\, 131 Cathedral Pl\, Santa Fe\, NM\, 87501\, United States
CATEGORIES:Concert Program
ATTACH;FMTTYPE=image/png:https://desertchorale.org/wp2021/wp-content/uploads/SFDC_2024_16-9_1024x576_AMERICAS.png
END:VEVENT
BEGIN:VEVENT
DTSTART;TZID=America/Denver:20240721T160000
DTEND;TZID=America/Denver:20240721T170000
DTSTAMP:20260420T153344
CREATED:20231206T230830Z
LAST-MODIFIED:20231206T230830Z
UID:10000082-1721577600-1721581200@desertchorale.org
SUMMARY:Out of This World
DESCRIPTION:The 2024 Summer Festival is sponsored by an Anonymous Donor\nProgram sponsored by Elaine Wang Meyerhoffer\nJoshua Habermann\, conductor sponsored by Carmen Paradis and Brian McGrath\nSpend an evening soaring the skies as you experience the uplifting power of great choral music\, including works from some of the world’s top living composers. Join the twenty-four professional Desert Chorale artists as they traverse extraterrestrial beauty and thrills\, making a stop by the ethereal Northern Lights along the way. Plus\, be the first to experience not just one but two world premieres! First\, our 2024 commissioned composer Daniel Knaggs will dazzle you with a brand new piece which will “explore the splendor of the cosmos\, reflecting also on the meaning of our human existence.” Then\, as a new partner with Chicago a cappella’s HerVoice competition and mentorship program for up-and-coming women composers\, the Desert Chorale is honored to present a work by winner Andelena Jackson from Hagerstown\, MD. Prepare to be filled with awe and wonder on a musical journey for the ears and the soul.
URL:https://desertchorale.org/event/out-of-this-world/2024-07-21/
LOCATION:The Cathedral Basilica of St. Francis of Assisi\, 131 Cathedral Pl\, Santa Fe\, NM\, 87501\, United States
CATEGORIES:Concert Program
ATTACH;FMTTYPE=image/png:https://desertchorale.org/wp2021/wp-content/uploads/SFDC_2024_16-9_1024x576_AURORA.png
END:VEVENT
BEGIN:VEVENT
DTSTART;TZID=America/Denver:20240725T193000
DTEND;TZID=America/Denver:20240725T203000
DTSTAMP:20260420T153344
CREATED:20231209T164224Z
LAST-MODIFIED:20240216T163220Z
UID:10000097-1721935800-1721939400@desertchorale.org
SUMMARY:The Great Romantics
DESCRIPTION:The 2024 Summer Festival is sponsored by an Anonymous Donor\nProgram sponsored by Catherine and Guy Gronquist\nJoshua Habermann\, conductor sponsored by Carmen Paradis and Brian McGrath\nImmerse yourself in the lush harmonies\, sweeping melodies\, and tender poetry of the German Romantics. Impressive works of Johannes Brahms bookend a sublime set of vocal chamber music by Franz Schubert and Robert Schumann featuring several Desert Chorale artists as soloists\, all with lyrics and music that delve into the depths of human emotion. The twenty-four professional Desert Chorale singers accompanied by piano bring to life a spectacular sampling from these giants of the Western classical tradition. Come and experience these vocal masterworks of the 19th century like you’ve never heard them before.
URL:https://desertchorale.org/event/the-great-romantics/2024-07-25/
LOCATION:The Cathedral Basilica of St. Francis of Assisi\, 131 Cathedral Pl\, Santa Fe\, NM\, 87501\, United States
CATEGORIES:Concert Program
ATTACH;FMTTYPE=image/png:https://desertchorale.org/wp2021/wp-content/uploads/SFDC_2024_16-9_1024x576_ROMANTICS.png
END:VEVENT
BEGIN:VEVENT
DTSTART;TZID=America/Denver:20240726T193000
DTEND;TZID=America/Denver:20240726T203000
DTSTAMP:20260420T153344
CREATED:20231206T230830Z
LAST-MODIFIED:20231206T230830Z
UID:10000083-1722022200-1722025800@desertchorale.org
SUMMARY:Out of This World
DESCRIPTION:The 2024 Summer Festival is sponsored by an Anonymous Donor\nProgram sponsored by Elaine Wang Meyerhoffer\nJoshua Habermann\, conductor sponsored by Carmen Paradis and Brian McGrath\nSpend an evening soaring the skies as you experience the uplifting power of great choral music\, including works from some of the world’s top living composers. Join the twenty-four professional Desert Chorale artists as they traverse extraterrestrial beauty and thrills\, making a stop by the ethereal Northern Lights along the way. Plus\, be the first to experience not just one but two world premieres! First\, our 2024 commissioned composer Daniel Knaggs will dazzle you with a brand new piece which will “explore the splendor of the cosmos\, reflecting also on the meaning of our human existence.” Then\, as a new partner with Chicago a cappella’s HerVoice competition and mentorship program for up-and-coming women composers\, the Desert Chorale is honored to present a work by winner Andelena Jackson from Hagerstown\, MD. Prepare to be filled with awe and wonder on a musical journey for the ears and the soul.
URL:https://desertchorale.org/event/out-of-this-world/2024-07-26/
LOCATION:The Cathedral Basilica of St. Francis of Assisi\, 131 Cathedral Pl\, Santa Fe\, NM\, 87501\, United States
CATEGORIES:Concert Program
ATTACH;FMTTYPE=image/png:https://desertchorale.org/wp2021/wp-content/uploads/SFDC_2024_16-9_1024x576_AURORA.png
END:VEVENT
BEGIN:VEVENT
DTSTART;TZID=America/Denver:20240727T193000
DTEND;TZID=America/Denver:20240727T203000
DTSTAMP:20260420T153344
CREATED:20231206T230059Z
LAST-MODIFIED:20231206T230059Z
UID:10000077-1722108600-1722112200@desertchorale.org
SUMMARY:Songs of the Americas
DESCRIPTION:The 2024 Summer Festival is sponsored by an Anonymous Donor\nProgram sponsored by Suzanne M. Timble\nJoshua Habermann\, conductor sponsored by Carmen Paradis and Brian McGrath\nEmbark on a musical expedition as sixteen professional Desert Chorale artists accompanied by chamber orchestra and percussion explore the rich heritage of 17th and 18th century music from North and South America. Experience the toe-tapping melodies and soul-stirring harmonies of works by Latin American Baroque composers. Then\, return to the present with selections from the modern Mass of the Americas by Frank La Rocca\, in which he melds together “tones of Western church music with those of traditional Mexican folk songs.” Debuted in 2018\, this “cornerstone of modern liturgical composition” (Mark Nowakowski) incorporates texts in Spanish\, Latin\, and Nahuatl (the indigenous language of the Aztecs).
URL:https://desertchorale.org/event/songs-of-the-americas/2024-07-27/
LOCATION:The Cathedral Basilica of St. Francis of Assisi\, 131 Cathedral Pl\, Santa Fe\, NM\, 87501\, United States
CATEGORIES:Concert Program
ATTACH;FMTTYPE=image/png:https://desertchorale.org/wp2021/wp-content/uploads/SFDC_2024_16-9_1024x576_AMERICAS.png
END:VEVENT
BEGIN:VEVENT
DTSTART;TZID=America/Denver:20240728T160000
DTEND;TZID=America/Denver:20240728T170000
DTSTAMP:20260420T153344
CREATED:20231209T164224Z
LAST-MODIFIED:20240216T163220Z
UID:10000098-1722182400-1722186000@desertchorale.org
SUMMARY:The Great Romantics
DESCRIPTION:The 2024 Summer Festival is sponsored by an Anonymous Donor\nProgram sponsored by Catherine and Guy Gronquist\nJoshua Habermann\, conductor sponsored by Carmen Paradis and Brian McGrath\nImmerse yourself in the lush harmonies\, sweeping melodies\, and tender poetry of the German Romantics. Impressive works of Johannes Brahms bookend a sublime set of vocal chamber music by Franz Schubert and Robert Schumann featuring several Desert Chorale artists as soloists\, all with lyrics and music that delve into the depths of human emotion. The twenty-four professional Desert Chorale singers accompanied by piano bring to life a spectacular sampling from these giants of the Western classical tradition. Come and experience these vocal masterworks of the 19th century like you’ve never heard them before.
URL:https://desertchorale.org/event/the-great-romantics/2024-07-28/
LOCATION:The Cathedral Basilica of St. Francis of Assisi\, 131 Cathedral Pl\, Santa Fe\, NM\, 87501\, United States
CATEGORIES:Concert Program
ATTACH;FMTTYPE=image/png:https://desertchorale.org/wp2021/wp-content/uploads/SFDC_2024_16-9_1024x576_ROMANTICS.png
END:VEVENT
BEGIN:VEVENT
DTSTART;TZID=America/Denver:20240730T140000
DTEND;TZID=America/Denver:20240730T150000
DTSTAMP:20260420T153344
CREATED:20240627T202805Z
LAST-MODIFIED:20240627T202828Z
UID:10000103-1722348000-1722351600@desertchorale.org
SUMMARY:Insights & Sounds Summer Family Concert
DESCRIPTION:Bring the young music-lovers in your life to our free interactive mini-concert for children and their families on Tuesday\, July 30\, 2024 at 2:00 PM at the Christ Church Santa Fe. Featuring the 24 professional singers of the Desert Chorale led by Joshua Habermann\, this performance will be a fun way to introduce and share the thrill of great choral music with children in the Santa Fe community. Families may stay to meet the artists after the performance. \nDoors open at 1:30 PM. This event is approximately one hour in length. An informal meet & greet with the artist follows in the lobby. Light snacks will be provided. \n\n\nWe ask that families please sign up in advance\, as capacity is limited. Admission is pay what you wish. \nPlease note that this event will be photographed for archival and promotional purposes.
URL:https://desertchorale.org/event/iands-summer-family-concert/
LOCATION:Christ Church Santa Fe\, 1213 Don Gaspar Ave\, Santa Fe\, 87505\, United States
CATEGORIES:Community Event
ATTACH;FMTTYPE=image/png:https://desertchorale.org/wp2021/wp-content/uploads/is202416x9.png
END:VEVENT
BEGIN:VEVENT
DTSTART;TZID=America/Denver:20240731T160000
DTEND;TZID=America/Denver:20240731T170000
DTSTAMP:20260420T153344
CREATED:20231206T232022Z
LAST-MODIFIED:20231206T232022Z
UID:10000088-1722441600-1722445200@desertchorale.org
SUMMARY:2024 Artist Spotlight Recital
DESCRIPTION:Our professional singers not only blend seamlessly in an ensemble—they also shine on the solo stage! Three of your favorite Desert Chorale artists come together for an art song recital in the intimate\, surround-sound setting of St. Bede’s Episcopal Church. Sneak out of the office early and treat yourself to an afternoon filled with profound poetry and soaring melodies.
URL:https://desertchorale.org/event/2024-artist-spotlight-recital/
LOCATION:St. Bede’s Episcopal Church\, 550 W San Mateo Rd\, Santa Fe\, NM\, 87505\, United States
CATEGORIES:Concert Program
ATTACH;FMTTYPE=image/png:https://desertchorale.org/wp2021/wp-content/uploads/Alissa-16x9-image-1.png
END:VEVENT
END:VCALENDAR