BEGIN:VCALENDAR
VERSION:2.0
PRODID:-//Santa Fe Desert Chorale - ECPv6.15.20//NONSGML v1.0//EN
CALSCALE:GREGORIAN
METHOD:PUBLISH
X-ORIGINAL-URL:https://desertchorale.org
X-WR-CALDESC:Events for Santa Fe Desert Chorale
REFRESH-INTERVAL;VALUE=DURATION:PT1H
X-Robots-Tag:noindex
X-PUBLISHED-TTL:PT1H
BEGIN:VTIMEZONE
TZID:America/Denver
BEGIN:DAYLIGHT
TZOFFSETFROM:-0700
TZOFFSETTO:-0600
TZNAME:MDT
DTSTART:20230312T090000
END:DAYLIGHT
BEGIN:STANDARD
TZOFFSETFROM:-0600
TZOFFSETTO:-0700
TZNAME:MST
DTSTART:20231105T080000
END:STANDARD
BEGIN:DAYLIGHT
TZOFFSETFROM:-0700
TZOFFSETTO:-0600
TZNAME:MDT
DTSTART:20240310T090000
END:DAYLIGHT
BEGIN:STANDARD
TZOFFSETFROM:-0600
TZOFFSETTO:-0700
TZNAME:MST
DTSTART:20241103T080000
END:STANDARD
BEGIN:DAYLIGHT
TZOFFSETFROM:-0700
TZOFFSETTO:-0600
TZNAME:MDT
DTSTART:20250309T090000
END:DAYLIGHT
BEGIN:STANDARD
TZOFFSETFROM:-0600
TZOFFSETTO:-0700
TZNAME:MST
DTSTART:20251102T080000
END:STANDARD
END:VTIMEZONE
BEGIN:VEVENT
DTSTART;TZID=America/Denver:20240427T093000
DTEND;TZID=America/Denver:20240427T143000
DTSTAMP:20260421T084631
CREATED:20240216T162859Z
LAST-MODIFIED:20240216T162859Z
UID:10000101-1714210200-1714228200@desertchorale.org
SUMMARY:Santa Fe Sings!
DESCRIPTION:Program underwritten by Stephen and Jane Hochberg\nDo you love to sing? Then come join us for a day filled with top-notch instruction\, supportive community\, and beautiful music! \nSingers of all backgrounds are invited to come cultivate their love for singing and nurture their confidence as they create music together under the direction of Artistic Director Joshua Habermann. Invite your family and friends to come watch the free showcase at the end of the day! \nTickets are $25 or pay what you wish (min $10) for adults and $5 for students (8th grade and above with ID). Click the website link for tickets and more information.
URL:https://desertchorale.org/event/santa-fe-sings/
LOCATION:The United Church of Santa Fe\, 1804 Arroyo Chamiso\, Santa Fe\, New Mexico\, 87505\, United States
CATEGORIES:Community Event
ATTACH;FMTTYPE=image/png:https://desertchorale.org/wp2021/wp-content/uploads/SFSings-2024-Large.png
END:VEVENT
END:VCALENDAR