BEGIN:VCALENDAR
VERSION:2.0
PRODID:-//Santa Fe Desert Chorale - ECPv6.15.20//NONSGML v1.0//EN
CALSCALE:GREGORIAN
METHOD:PUBLISH
X-WR-CALNAME:Santa Fe Desert Chorale
X-ORIGINAL-URL:https://desertchorale.org
X-WR-CALDESC:Events for Santa Fe Desert Chorale
REFRESH-INTERVAL;VALUE=DURATION:PT1H
X-Robots-Tag:noindex
X-PUBLISHED-TTL:PT1H
BEGIN:VTIMEZONE
TZID:America/Denver
BEGIN:DAYLIGHT
TZOFFSETFROM:-0700
TZOFFSETTO:-0600
TZNAME:MDT
DTSTART:20220313T090000
END:DAYLIGHT
BEGIN:STANDARD
TZOFFSETFROM:-0600
TZOFFSETTO:-0700
TZNAME:MST
DTSTART:20221106T080000
END:STANDARD
BEGIN:DAYLIGHT
TZOFFSETFROM:-0700
TZOFFSETTO:-0600
TZNAME:MDT
DTSTART:20230312T090000
END:DAYLIGHT
BEGIN:STANDARD
TZOFFSETFROM:-0600
TZOFFSETTO:-0700
TZNAME:MST
DTSTART:20231105T080000
END:STANDARD
BEGIN:DAYLIGHT
TZOFFSETFROM:-0700
TZOFFSETTO:-0600
TZNAME:MDT
DTSTART:20240310T090000
END:DAYLIGHT
BEGIN:STANDARD
TZOFFSETFROM:-0600
TZOFFSETTO:-0700
TZNAME:MST
DTSTART:20241103T080000
END:STANDARD
END:VTIMEZONE
BEGIN:VEVENT
DTSTART;TZID=America/Denver:20230801T110000
DTEND;TZID=America/Denver:20230801T120000
DTSTAMP:20260419T104928
CREATED:20230131T052756Z
LAST-MODIFIED:20230711T223831Z
UID:10000069-1690887600-1690891200@desertchorale.org
SUMMARY:Insights & Sounds Symposium
DESCRIPTION:An engaging musical experience especially for children and families! Featuring the 24 professional singers of the Desert Chorale\, led by Joshua Habermann\, this is sure to be a fun way to share the thrill of great choral music with the kids in your life. Stay to meet the artists! \nFREE ADMISSION\, or pay what you wish. \nLight snacks and water will be provided. For more information and to register\, visit desertchorale.org/i&s or call (505) 988-2282.
URL:https://desertchorale.org/event/iands/
LOCATION:Church of the Holy Faith\, 311 E Palace Ave\, Santa Fe\, NM\, 87501\, United States
CATEGORIES:Community Event
ATTACH;FMTTYPE=image/jpeg:https://desertchorale.org/wp2021/wp-content/uploads/4Z5A7824-1-scaled-e1688508310238.jpg
END:VEVENT
END:VCALENDAR