BEGIN:VCALENDAR
VERSION:2.0
PRODID:-//Santa Fe Desert Chorale - ECPv6.15.20//NONSGML v1.0//EN
CALSCALE:GREGORIAN
METHOD:PUBLISH
X-ORIGINAL-URL:https://desertchorale.org
X-WR-CALDESC:Events for Santa Fe Desert Chorale
REFRESH-INTERVAL;VALUE=DURATION:PT1H
X-Robots-Tag:noindex
X-PUBLISHED-TTL:PT1H
BEGIN:VTIMEZONE
TZID:America/Denver
BEGIN:DAYLIGHT
TZOFFSETFROM:-0700
TZOFFSETTO:-0600
TZNAME:MDT
DTSTART:20250309T090000
END:DAYLIGHT
BEGIN:STANDARD
TZOFFSETFROM:-0600
TZOFFSETTO:-0700
TZNAME:MST
DTSTART:20251102T080000
END:STANDARD
BEGIN:DAYLIGHT
TZOFFSETFROM:-0700
TZOFFSETTO:-0600
TZNAME:MDT
DTSTART:20260308T090000
END:DAYLIGHT
BEGIN:STANDARD
TZOFFSETFROM:-0600
TZOFFSETTO:-0700
TZNAME:MST
DTSTART:20261101T080000
END:STANDARD
BEGIN:DAYLIGHT
TZOFFSETFROM:-0700
TZOFFSETTO:-0600
TZNAME:MDT
DTSTART:20270314T090000
END:DAYLIGHT
BEGIN:STANDARD
TZOFFSETFROM:-0600
TZOFFSETTO:-0700
TZNAME:MST
DTSTART:20271107T080000
END:STANDARD
END:VTIMEZONE
BEGIN:VEVENT
DTSTART;TZID=America/Denver:20260425T150000
DTEND;TZID=America/Denver:20260425T170000
DTSTAMP:20260423T004946
CREATED:20251211T134219Z
LAST-MODIFIED:20260309T170255Z
UID:10000160-1777129200-1777136400@desertchorale.org
SUMMARY:Big Sing with Moira Smiley
DESCRIPTION:
URL:https://desertchorale.org/event/big-sing/
LOCATION:Chatter ABQ\, 912 3rd St NW\, Albuquerque\, 87102\, United States
CATEGORIES:Community Event
ATTACH;FMTTYPE=image/png:https://desertchorale.org/wp2021/wp-content/uploads/Big-Sing_EVENTS-MENU-2.png
END:VEVENT
END:VCALENDAR