BEGIN:VCALENDAR
VERSION:2.0
PRODID:-//Santa Fe Desert Chorale - ECPv6.15.20//NONSGML v1.0//EN
CALSCALE:GREGORIAN
METHOD:PUBLISH
X-ORIGINAL-URL:https://desertchorale.org
X-WR-CALDESC:Events for Santa Fe Desert Chorale
REFRESH-INTERVAL;VALUE=DURATION:PT1H
X-Robots-Tag:noindex
X-PUBLISHED-TTL:PT1H
BEGIN:VTIMEZONE
TZID:America/Denver
BEGIN:DAYLIGHT
TZOFFSETFROM:-0700
TZOFFSETTO:-0600
TZNAME:MDT
DTSTART:20230312T090000
END:DAYLIGHT
BEGIN:STANDARD
TZOFFSETFROM:-0600
TZOFFSETTO:-0700
TZNAME:MST
DTSTART:20231105T080000
END:STANDARD
BEGIN:DAYLIGHT
TZOFFSETFROM:-0700
TZOFFSETTO:-0600
TZNAME:MDT
DTSTART:20240310T090000
END:DAYLIGHT
BEGIN:STANDARD
TZOFFSETFROM:-0600
TZOFFSETTO:-0700
TZNAME:MST
DTSTART:20241103T080000
END:STANDARD
BEGIN:DAYLIGHT
TZOFFSETFROM:-0700
TZOFFSETTO:-0600
TZNAME:MDT
DTSTART:20250309T090000
END:DAYLIGHT
BEGIN:STANDARD
TZOFFSETFROM:-0600
TZOFFSETTO:-0700
TZNAME:MST
DTSTART:20251102T080000
END:STANDARD
END:VTIMEZONE
BEGIN:VEVENT
DTSTART;TZID=America/Denver:20241213T190000
DTEND;TZID=America/Denver:20241213T200000
DTSTAMP:20260424T163516
CREATED:20231206T233525Z
LAST-MODIFIED:20231206T233525Z
UID:10000089-1734116400-1734120000@desertchorale.org
SUMMARY:Carols & Lullabies: A Rose in Winter
DESCRIPTION:Joshua Habermann\, conductor\nExperience the warmth\, light\, and beauty of the holiday season during the Desert Chorale’s annual Winter Festival. This year’s program\, A Rose in Winter\, reflects on the hope and wonder we experience this time of year\, as miraculous as a flower blooming during the cold of December. Our twenty-four professional artists and guest collaborative pianist return to the Land of Enchantment from across the nation for concerts\, caroling\, and more. Celebrate this festive time of year with beloved carols you know and love alongside new musical treasures to add to your collection of favorite seasonal tunes.
URL:https://desertchorale.org/event/a-rose-in-winter/2024-12-13/
LOCATION:The Cathedral Basilica of St. Francis of Assisi\, 131 Cathedral Pl\, Santa Fe\, NM\, 87501\, United States
CATEGORIES:Concert Program
ATTACH;FMTTYPE=image/png:https://desertchorale.org/wp2021/wp-content/uploads/SFDC_2024_16-9_1024x576_ROSE.png
END:VEVENT
BEGIN:VEVENT
DTSTART;TZID=America/Denver:20241214T133000
DTEND;TZID=America/Denver:20241214T140000
DTSTAMP:20260424T163516
CREATED:20241211T031947Z
LAST-MODIFIED:20241211T031947Z
UID:10000124-1734183000-1734184800@desertchorale.org
SUMMARY:FREE Pop-up Carols
DESCRIPTION:Take a moment during your busy holiday schedule to enjoy the seasonal music you know and love. These seemingly spontaneous presentations take place during our annual Winter Festival throughout Santa Fe. The community is invited to enjoy small groups of professional Desert Chorale artists singing at various times and locations\, free of charge.
URL:https://desertchorale.org/event/free-pop-up-carols-2024/
LOCATION:Center Court inside the DeVargas Center\, 564 N Guadalupe St\, Santa Fe\, 87501\, United States
CATEGORIES:Community Event
ATTACH;FMTTYPE=image/jpeg:https://desertchorale.org/wp2021/wp-content/uploads/PXL_20221213_182957827-1-scaled-e1698258877965.jpg
END:VEVENT
BEGIN:VEVENT
DTSTART;TZID=America/Denver:20241214T190000
DTEND;TZID=America/Denver:20241214T200000
DTSTAMP:20260424T163516
CREATED:20231206T233525Z
LAST-MODIFIED:20231206T233525Z
UID:10000090-1734202800-1734206400@desertchorale.org
SUMMARY:Carols & Lullabies: A Rose in Winter
DESCRIPTION:Joshua Habermann\, conductor\nExperience the warmth\, light\, and beauty of the holiday season during the Desert Chorale’s annual Winter Festival. This year’s program\, A Rose in Winter\, reflects on the hope and wonder we experience this time of year\, as miraculous as a flower blooming during the cold of December. Our twenty-four professional artists and guest collaborative pianist return to the Land of Enchantment from across the nation for concerts\, caroling\, and more. Celebrate this festive time of year with beloved carols you know and love alongside new musical treasures to add to your collection of favorite seasonal tunes.
URL:https://desertchorale.org/event/a-rose-in-winter/2024-12-14/
LOCATION:The Cathedral Basilica of St. Francis of Assisi\, 131 Cathedral Pl\, Santa Fe\, NM\, 87501\, United States
CATEGORIES:Concert Program
ATTACH;FMTTYPE=image/png:https://desertchorale.org/wp2021/wp-content/uploads/SFDC_2024_16-9_1024x576_ROSE.png
END:VEVENT
BEGIN:VEVENT
DTSTART;TZID=America/Denver:20241215T160000
DTEND;TZID=America/Denver:20241215T170000
DTSTAMP:20260424T163516
CREATED:20231209T165618Z
LAST-MODIFIED:20231209T165728Z
UID:10000100-1734278400-1734282000@desertchorale.org
SUMMARY:Carols & Lullabies: A Rose in Winter
DESCRIPTION:Joshua Habermann\, conductor\nExperience the warmth\, light\, and beauty of the holiday season during the Desert Chorale’s annual Winter Festival. This year’s program\, A Rose in Winter\, reflects on the hope and wonder we experience this time of year\, as miraculous as a flower blooming during the cold of December. Our twenty-four professional artists and guest collaborative pianist return to the Land of Enchantment from across the nation for concerts\, caroling\, and more. Celebrate this festive time of year with beloved carols you know and love alongside new musical treasures to add to your collection of favorite seasonal tunes.
URL:https://desertchorale.org/event/a-rose-in-winter-abq/
LOCATION:Immanuel Presbyterian\, 114 Carlisle Blvd SE\, Albuquerque\, NM\, 87106\, United States
CATEGORIES:Concert Program
ATTACH;FMTTYPE=image/png:https://desertchorale.org/wp2021/wp-content/uploads/SFDC_2024_16-9_1024x576_ROSE.png
END:VEVENT
BEGIN:VEVENT
DTSTART;TZID=America/Denver:20241217T190000
DTEND;TZID=America/Denver:20241217T200000
DTSTAMP:20260424T163516
CREATED:20231206T233525Z
LAST-MODIFIED:20231206T233525Z
UID:10000091-1734462000-1734465600@desertchorale.org
SUMMARY:Carols & Lullabies: A Rose in Winter
DESCRIPTION:Joshua Habermann\, conductor\nExperience the warmth\, light\, and beauty of the holiday season during the Desert Chorale’s annual Winter Festival. This year’s program\, A Rose in Winter\, reflects on the hope and wonder we experience this time of year\, as miraculous as a flower blooming during the cold of December. Our twenty-four professional artists and guest collaborative pianist return to the Land of Enchantment from across the nation for concerts\, caroling\, and more. Celebrate this festive time of year with beloved carols you know and love alongside new musical treasures to add to your collection of favorite seasonal tunes.
URL:https://desertchorale.org/event/a-rose-in-winter/2024-12-17/
LOCATION:The Cathedral Basilica of St. Francis of Assisi\, 131 Cathedral Pl\, Santa Fe\, NM\, 87501\, United States
CATEGORIES:Concert Program
ATTACH;FMTTYPE=image/png:https://desertchorale.org/wp2021/wp-content/uploads/SFDC_2024_16-9_1024x576_ROSE.png
END:VEVENT
BEGIN:VEVENT
DTSTART;TZID=America/Denver:20241218T173000
DTEND;TZID=America/Denver:20241218T180000
DTSTAMP:20260424T163516
CREATED:20241211T032142Z
LAST-MODIFIED:20241211T032142Z
UID:10000125-1734543000-1734544800@desertchorale.org
SUMMARY:FREE Pop-up Carols
DESCRIPTION:Take a moment during your busy holiday schedule to enjoy the seasonal music you know and love. These seemingly spontaneous presentations take place during our annual Winter Festival throughout Santa Fe. The community is invited to enjoy small groups of professional Desert Chorale artists singing at various times and locations\, free of charge. \nWe are thrilled to be joined this year by the talented Young Voices of the Santa Fe Opera on Wednesday\, December 18th at 5:30pm at the Southside Library Branch.
URL:https://desertchorale.org/event/free-pop-up-carols-2024-2/
LOCATION:Santa Fe Public Library Southside Branch\, 6599 Jaguar Dr\, Santa Fe\, NM\, 87507\, United States
CATEGORIES:Community Event
ATTACH;FMTTYPE=image/jpeg:https://desertchorale.org/wp2021/wp-content/uploads/PXL_20221213_182957827-1-scaled-e1698258877965.jpg
END:VEVENT
BEGIN:VEVENT
DTSTART;TZID=America/Denver:20241219T163000
DTEND;TZID=America/Denver:20241219T173000
DTSTAMP:20260424T163516
CREATED:20241211T031612Z
LAST-MODIFIED:20241211T031635Z
UID:10000123-1734625800-1734629400@desertchorale.org
SUMMARY:Insights & Sounds Family Holiday Concert
DESCRIPTION:Calling all young and young-at-heart! You and your family are invited to join us for a free merry mini-concert with snacks on Thursday\, December 19\, 2024\, at 4:30 PM inside the Santa Fe Farmers Market Pavilion. \nFeaturing the 24 professional singers of the Desert Chorale led by Joshua Habermann\, this delightful performance will fill the air with holiday favorites that are sure to make your spirits bright. Families are invited to stick around and meet the artists after the performance. \nDoors open at 4:00 PM\, and the concert will last approximately 45 minutes. Flexible seating will be available\, so please feel free to bring a cozy blanket if your littles do better on the floor. \nThis program is geared specifically toward children\, but all are welcome. We hope you’ll join us for a joyful afternoon of holiday singing!
URL:https://desertchorale.org/event/insights-sounds-family-holiday-concert/
LOCATION:Santa Fe Farmers Market Pavilion\, 1607 Paseo de Peralta\, Santa Fe\, NM\, 87501\, United States
CATEGORIES:Community Event
ATTACH;FMTTYPE=image/png:https://desertchorale.org/wp2021/wp-content/uploads/is202416x9.png
END:VEVENT
BEGIN:VEVENT
DTSTART;TZID=America/Denver:20241220T190000
DTEND;TZID=America/Denver:20241220T200000
DTSTAMP:20260424T163516
CREATED:20231206T233525Z
LAST-MODIFIED:20231206T233525Z
UID:10000092-1734721200-1734724800@desertchorale.org
SUMMARY:Carols & Lullabies: A Rose in Winter
DESCRIPTION:Joshua Habermann\, conductor\nExperience the warmth\, light\, and beauty of the holiday season during the Desert Chorale’s annual Winter Festival. This year’s program\, A Rose in Winter\, reflects on the hope and wonder we experience this time of year\, as miraculous as a flower blooming during the cold of December. Our twenty-four professional artists and guest collaborative pianist return to the Land of Enchantment from across the nation for concerts\, caroling\, and more. Celebrate this festive time of year with beloved carols you know and love alongside new musical treasures to add to your collection of favorite seasonal tunes.
URL:https://desertchorale.org/event/a-rose-in-winter/2024-12-20/
LOCATION:The Cathedral Basilica of St. Francis of Assisi\, 131 Cathedral Pl\, Santa Fe\, NM\, 87501\, United States
CATEGORIES:Concert Program
ATTACH;FMTTYPE=image/png:https://desertchorale.org/wp2021/wp-content/uploads/SFDC_2024_16-9_1024x576_ROSE.png
END:VEVENT
BEGIN:VEVENT
DTSTART;TZID=America/Denver:20241221T190000
DTEND;TZID=America/Denver:20241221T200000
DTSTAMP:20260424T163516
CREATED:20231206T233525Z
LAST-MODIFIED:20231206T233525Z
UID:10000093-1734807600-1734811200@desertchorale.org
SUMMARY:Carols & Lullabies: A Rose in Winter
DESCRIPTION:Joshua Habermann\, conductor\nExperience the warmth\, light\, and beauty of the holiday season during the Desert Chorale’s annual Winter Festival. This year’s program\, A Rose in Winter\, reflects on the hope and wonder we experience this time of year\, as miraculous as a flower blooming during the cold of December. Our twenty-four professional artists and guest collaborative pianist return to the Land of Enchantment from across the nation for concerts\, caroling\, and more. Celebrate this festive time of year with beloved carols you know and love alongside new musical treasures to add to your collection of favorite seasonal tunes.
URL:https://desertchorale.org/event/a-rose-in-winter/2024-12-21/
LOCATION:The Cathedral Basilica of St. Francis of Assisi\, 131 Cathedral Pl\, Santa Fe\, NM\, 87501\, United States
CATEGORIES:Concert Program
ATTACH;FMTTYPE=image/png:https://desertchorale.org/wp2021/wp-content/uploads/SFDC_2024_16-9_1024x576_ROSE.png
END:VEVENT
BEGIN:VEVENT
DTSTART;TZID=America/Denver:20241222T160000
DTEND;TZID=America/Denver:20241222T170000
DTSTAMP:20260424T163516
CREATED:20231206T233525Z
LAST-MODIFIED:20231206T233525Z
UID:10000094-1734883200-1734886800@desertchorale.org
SUMMARY:Carols & Lullabies: A Rose in Winter
DESCRIPTION:Joshua Habermann\, conductor\nExperience the warmth\, light\, and beauty of the holiday season during the Desert Chorale’s annual Winter Festival. This year’s program\, A Rose in Winter\, reflects on the hope and wonder we experience this time of year\, as miraculous as a flower blooming during the cold of December. Our twenty-four professional artists and guest collaborative pianist return to the Land of Enchantment from across the nation for concerts\, caroling\, and more. Celebrate this festive time of year with beloved carols you know and love alongside new musical treasures to add to your collection of favorite seasonal tunes.
URL:https://desertchorale.org/event/a-rose-in-winter/2024-12-22/1/
LOCATION:The Cathedral Basilica of St. Francis of Assisi\, 131 Cathedral Pl\, Santa Fe\, NM\, 87501\, United States
CATEGORIES:Concert Program
ATTACH;FMTTYPE=image/png:https://desertchorale.org/wp2021/wp-content/uploads/SFDC_2024_16-9_1024x576_ROSE.png
END:VEVENT
BEGIN:VEVENT
DTSTART;TZID=America/Denver:20241222T193000
DTEND;TZID=America/Denver:20241222T203000
DTSTAMP:20260424T163516
CREATED:20231206T233525Z
LAST-MODIFIED:20231206T233525Z
UID:10000095-1734895800-1734899400@desertchorale.org
SUMMARY:Carols & Lullabies: A Rose in Winter
DESCRIPTION:Joshua Habermann\, conductor\nExperience the warmth\, light\, and beauty of the holiday season during the Desert Chorale’s annual Winter Festival. This year’s program\, A Rose in Winter\, reflects on the hope and wonder we experience this time of year\, as miraculous as a flower blooming during the cold of December. Our twenty-four professional artists and guest collaborative pianist return to the Land of Enchantment from across the nation for concerts\, caroling\, and more. Celebrate this festive time of year with beloved carols you know and love alongside new musical treasures to add to your collection of favorite seasonal tunes.
URL:https://desertchorale.org/event/a-rose-in-winter/2024-12-22/2/
LOCATION:The Cathedral Basilica of St. Francis of Assisi\, 131 Cathedral Pl\, Santa Fe\, NM\, 87501\, United States
CATEGORIES:Concert Program
ATTACH;FMTTYPE=image/png:https://desertchorale.org/wp2021/wp-content/uploads/SFDC_2024_16-9_1024x576_ROSE.png
END:VEVENT
END:VCALENDAR