BEGIN:VCALENDAR
VERSION:2.0
PRODID:-//Santa Fe Desert Chorale - ECPv6.15.20//NONSGML v1.0//EN
CALSCALE:GREGORIAN
METHOD:PUBLISH
X-WR-CALNAME:Santa Fe Desert Chorale
X-ORIGINAL-URL:https://desertchorale.org
X-WR-CALDESC:Events for Santa Fe Desert Chorale
REFRESH-INTERVAL;VALUE=DURATION:PT1H
X-Robots-Tag:noindex
X-PUBLISHED-TTL:PT1H
BEGIN:VTIMEZONE
TZID:America/Denver
BEGIN:DAYLIGHT
TZOFFSETFROM:-0700
TZOFFSETTO:-0600
TZNAME:MDT
DTSTART:20210314T090000
END:DAYLIGHT
BEGIN:STANDARD
TZOFFSETFROM:-0600
TZOFFSETTO:-0700
TZNAME:MST
DTSTART:20211107T080000
END:STANDARD
BEGIN:DAYLIGHT
TZOFFSETFROM:-0700
TZOFFSETTO:-0600
TZNAME:MDT
DTSTART:20220313T090000
END:DAYLIGHT
BEGIN:STANDARD
TZOFFSETFROM:-0600
TZOFFSETTO:-0700
TZNAME:MST
DTSTART:20221106T080000
END:STANDARD
BEGIN:DAYLIGHT
TZOFFSETFROM:-0700
TZOFFSETTO:-0600
TZNAME:MDT
DTSTART:20230312T090000
END:DAYLIGHT
BEGIN:STANDARD
TZOFFSETFROM:-0600
TZOFFSETTO:-0700
TZNAME:MST
DTSTART:20231105T080000
END:STANDARD
END:VTIMEZONE
BEGIN:VEVENT
DTSTART;TZID=America/Denver:20220713T173000
DTEND;TZID=America/Denver:20220713T173000
DTSTAMP:20260424T154935
CREATED:20220604T001126Z
LAST-MODIFIED:20220614T204105Z
UID:10000045-1657733400-1657733400@desertchorale.org
SUMMARY:Artist Spotlight Recital I
DESCRIPTION:Our professional singers not only blend beautifully in an ensemble—they also shine on the solo stage! Enjoy beautiful\, varied repertoire from some of your favorite Desert Chorale artists in an intimate setting during our two Artist Spotlight vocal recitals. \n\nJoin us prior to this performance at 4:30 pm for our 40th Anniversary Ribbon Cutting Ceremony with the Santa Fe Chamber of Commerce. \nFeaturing:\n\n\nDianna Grabowski\, mezzo soprano\nSteven Soph\, tenor\nAlissa Ruth Suver\, soprano\nMaxine Thévenot\, organ and harpsichord
URL:https://desertchorale.org/event/artist-spotlight-recital-i/
LOCATION:Church of the Holy Faith\, 311 E Palace Ave\, Santa Fe\, NM\, 87501\, United States
CATEGORIES:Concert Program
ATTACH;FMTTYPE=image/jpeg:https://desertchorale.org/wp2021/wp-content/uploads/GI9A2666-scaled-e1654967353837.jpg
END:VEVENT
END:VCALENDAR