BEGIN:VCALENDAR
VERSION:2.0
PRODID:-//Santa Fe Desert Chorale - ECPv6.15.20//NONSGML v1.0//EN
CALSCALE:GREGORIAN
METHOD:PUBLISH
X-WR-CALNAME:Santa Fe Desert Chorale
X-ORIGINAL-URL:https://desertchorale.org
X-WR-CALDESC:Events for Santa Fe Desert Chorale
REFRESH-INTERVAL;VALUE=DURATION:PT1H
X-Robots-Tag:noindex
X-PUBLISHED-TTL:PT1H
BEGIN:VTIMEZONE
TZID:America/Denver
BEGIN:DAYLIGHT
TZOFFSETFROM:-0700
TZOFFSETTO:-0600
TZNAME:MDT
DTSTART:20220313T090000
END:DAYLIGHT
BEGIN:STANDARD
TZOFFSETFROM:-0600
TZOFFSETTO:-0700
TZNAME:MST
DTSTART:20221106T080000
END:STANDARD
BEGIN:DAYLIGHT
TZOFFSETFROM:-0700
TZOFFSETTO:-0600
TZNAME:MDT
DTSTART:20230312T090000
END:DAYLIGHT
BEGIN:STANDARD
TZOFFSETFROM:-0600
TZOFFSETTO:-0700
TZNAME:MST
DTSTART:20231105T080000
END:STANDARD
BEGIN:DAYLIGHT
TZOFFSETFROM:-0700
TZOFFSETTO:-0600
TZNAME:MDT
DTSTART:20240310T090000
END:DAYLIGHT
BEGIN:STANDARD
TZOFFSETFROM:-0600
TZOFFSETTO:-0700
TZNAME:MST
DTSTART:20241103T080000
END:STANDARD
END:VTIMEZONE
BEGIN:VEVENT
DTSTART;TZID=America/Denver:20230720T180000
DTEND;TZID=America/Denver:20230720T210000
DTSTAMP:20260419T170917
CREATED:20230131T051927Z
LAST-MODIFIED:20230131T051927Z
UID:10000068-1689876000-1689886800@desertchorale.org
SUMMARY:Gala Spectacular
DESCRIPTION:Celebrate with us this summer during our annual gala spectacular\, featuring a splendid cocktail hour\, an elegant dinner\, and an exclusive performance by the entire Desert Chorale. Tickets and more information will be available soon!
URL:https://desertchorale.org/event/gala/
LOCATION:Four Seasons Rancho Encantado\, 198 NM-592\, Santa Fe\, NM\, 87506\, United States
CATEGORIES:Special Event
ATTACH;FMTTYPE=image/jpeg:https://desertchorale.org/wp2021/wp-content/uploads/Gala-16x9-min-scaled.jpg
END:VEVENT
END:VCALENDAR