BEGIN:VCALENDAR
VERSION:2.0
PRODID:-//Santa Fe Desert Chorale - ECPv6.15.20//NONSGML v1.0//EN
CALSCALE:GREGORIAN
METHOD:PUBLISH
X-WR-CALNAME:Santa Fe Desert Chorale
X-ORIGINAL-URL:https://desertchorale.org
X-WR-CALDESC:Events for Santa Fe Desert Chorale
REFRESH-INTERVAL;VALUE=DURATION:PT1H
X-Robots-Tag:noindex
X-PUBLISHED-TTL:PT1H
BEGIN:VTIMEZONE
TZID:America/Denver
BEGIN:DAYLIGHT
TZOFFSETFROM:-0700
TZOFFSETTO:-0600
TZNAME:MDT
DTSTART:20210314T090000
END:DAYLIGHT
BEGIN:STANDARD
TZOFFSETFROM:-0600
TZOFFSETTO:-0700
TZNAME:MST
DTSTART:20211107T080000
END:STANDARD
BEGIN:DAYLIGHT
TZOFFSETFROM:-0700
TZOFFSETTO:-0600
TZNAME:MDT
DTSTART:20220313T090000
END:DAYLIGHT
BEGIN:STANDARD
TZOFFSETFROM:-0600
TZOFFSETTO:-0700
TZNAME:MST
DTSTART:20221106T080000
END:STANDARD
BEGIN:DAYLIGHT
TZOFFSETFROM:-0700
TZOFFSETTO:-0600
TZNAME:MDT
DTSTART:20230312T090000
END:DAYLIGHT
BEGIN:STANDARD
TZOFFSETFROM:-0600
TZOFFSETTO:-0700
TZNAME:MST
DTSTART:20231105T080000
END:STANDARD
END:VTIMEZONE
BEGIN:VEVENT
DTSTART;TZID=America/Denver:20220802T180000
DTEND;TZID=America/Denver:20220802T210000
DTSTAMP:20260420T100703
CREATED:20220601T205948Z
LAST-MODIFIED:20220701T171355Z
UID:10000029-1659463200-1659474000@desertchorale.org
SUMMARY:Ruby Celebration Gala
DESCRIPTION:JOIN US FOR AN ELEGANT EVENING OF REMINISCENCE AND CELEBRATION  \nFROM 6:00 pm\nCocktail Reception featuring the High Desert Jazz Trio \nAWARD PRESENTATION at 6:45 pm\nAngel Award: Stephen and Jane Hochberg\nCivic Leadership Award: Patricia Salazar Ives of Cuddy & McCarthy\, LLP \nDINNER at 7:15 pm\nThree-course Dinner Menu\nCreated by Executive Chef Jose Fernandez \nPERFORMANCE\nExclusive Concert by the Entire Desert Chorale\nFeaturing Forty Years of Choral Favorites\nConducted by Joshua Habermann \nFollow the event link to learn more and purchase tickets
URL:https://desertchorale.org/event/40th-anniversary-ruby-celebration-gala/
LOCATION:Four Seasons Rancho Encantado\, 198 NM-592\, Santa Fe\, NM\, 87506\, United States
CATEGORIES:Special Event
ATTACH;FMTTYPE=image/jpeg:https://desertchorale.org/wp2021/wp-content/uploads/SFDC_40thANNIVmetallicbanner-scaled-1.jpeg
END:VEVENT
END:VCALENDAR