BEGIN:VCALENDAR
VERSION:2.0
PRODID:-//Santa Fe Desert Chorale - ECPv6.15.20//NONSGML v1.0//EN
CALSCALE:GREGORIAN
METHOD:PUBLISH
X-ORIGINAL-URL:https://desertchorale.org
X-WR-CALDESC:Events for Santa Fe Desert Chorale
REFRESH-INTERVAL;VALUE=DURATION:PT1H
X-Robots-Tag:noindex
X-PUBLISHED-TTL:PT1H
BEGIN:VTIMEZONE
TZID:America/Denver
BEGIN:DAYLIGHT
TZOFFSETFROM:-0700
TZOFFSETTO:-0600
TZNAME:MDT
DTSTART:20250309T090000
END:DAYLIGHT
BEGIN:STANDARD
TZOFFSETFROM:-0600
TZOFFSETTO:-0700
TZNAME:MST
DTSTART:20251102T080000
END:STANDARD
BEGIN:DAYLIGHT
TZOFFSETFROM:-0700
TZOFFSETTO:-0600
TZNAME:MDT
DTSTART:20260308T090000
END:DAYLIGHT
BEGIN:STANDARD
TZOFFSETFROM:-0600
TZOFFSETTO:-0700
TZNAME:MST
DTSTART:20261101T080000
END:STANDARD
BEGIN:DAYLIGHT
TZOFFSETFROM:-0700
TZOFFSETTO:-0600
TZNAME:MDT
DTSTART:20270314T090000
END:DAYLIGHT
BEGIN:STANDARD
TZOFFSETFROM:-0600
TZOFFSETTO:-0700
TZNAME:MST
DTSTART:20271107T080000
END:STANDARD
END:VTIMEZONE
BEGIN:VEVENT
DTSTART;TZID=America/Denver:20260726T160000
DTEND;TZID=America/Denver:20260726T173000
DTSTAMP:20260423T005746
CREATED:20251211T133017Z
LAST-MODIFIED:20260213T204747Z
UID:10000179-1785081600-1785087000@desertchorale.org
SUMMARY:Rachmaninoff's All-Night Vigil
DESCRIPTION:
URL:https://desertchorale.org/event/rachmaninoffs-all-night-vigil/2026-07-26/
LOCATION:The Cathedral Basilica of St. Francis of Assisi\, 131 Cathedral Pl\, Santa Fe\, NM\, 87501\, United States
CATEGORIES:Concert Program
ATTACH;FMTTYPE=image/png:https://desertchorale.org/wp2021/wp-content/uploads/Rachmaninoff-Vespers_EVENTS-MENU.png
END:VEVENT
BEGIN:VEVENT
DTSTART;TZID=America/Denver:20260728T193000
DTEND;TZID=America/Denver:20260728T210000
DTSTAMP:20260423T005746
CREATED:20251211T130659Z
LAST-MODIFIED:20251211T130717Z
UID:10000144-1785267000-1785272400@desertchorale.org
SUMMARY:Renaissance Splendor
DESCRIPTION:
URL:https://desertchorale.org/event/renaissance-splendor/2026-07-28/
LOCATION:The Cathedral Basilica of St. Francis of Assisi\, 131 Cathedral Pl\, Santa Fe\, NM\, 87501\, United States
CATEGORIES:Concert Program
ATTACH;FMTTYPE=image/png:https://desertchorale.org/wp2021/wp-content/uploads/Renaissance-Splendor_EVENTS-MENU.png
END:VEVENT
BEGIN:VEVENT
DTSTART;TZID=America/Denver:20260729T160000
DTEND;TZID=America/Denver:20260729T173000
DTSTAMP:20260423T005746
CREATED:20251211T133856Z
LAST-MODIFIED:20251211T133931Z
UID:10000159-1785340800-1785346200@desertchorale.org
SUMMARY:Artist Spotlight Recital
DESCRIPTION:
URL:https://desertchorale.org/event/artist-spotlight/
LOCATION:The Cathedral Basilica of St. Francis of Assisi\, 131 Cathedral Pl\, Santa Fe\, NM\, 87501\, United States
CATEGORIES:Concert Program
ATTACH;FMTTYPE=image/png:https://desertchorale.org/wp2021/wp-content/uploads/Artist-Spotlight-Recital_EVENTS-MENU.png
END:VEVENT
BEGIN:VEVENT
DTSTART;TZID=America/Denver:20260730T193000
DTEND;TZID=America/Denver:20260730T210000
DTSTAMP:20260423T005746
CREATED:20251211T133017Z
LAST-MODIFIED:20260213T204747Z
UID:10000156-1785439800-1785445200@desertchorale.org
SUMMARY:Rachmaninoff's All-Night Vigil
DESCRIPTION:
URL:https://desertchorale.org/event/rachmaninoffs-all-night-vigil/2026-07-30/
LOCATION:The Cathedral Basilica of St. Francis of Assisi\, 131 Cathedral Pl\, Santa Fe\, NM\, 87501\, United States
CATEGORIES:Concert Program
ATTACH;FMTTYPE=image/png:https://desertchorale.org/wp2021/wp-content/uploads/Rachmaninoff-Vespers_EVENTS-MENU.png
END:VEVENT
BEGIN:VEVENT
DTSTART;TZID=America/Denver:20260801T193000
DTEND;TZID=America/Denver:20260801T210000
DTSTAMP:20260423T005746
CREATED:20251211T130659Z
LAST-MODIFIED:20251211T130717Z
UID:10000145-1785612600-1785618000@desertchorale.org
SUMMARY:Renaissance Splendor
DESCRIPTION:
URL:https://desertchorale.org/event/renaissance-splendor/2026-08-01/
LOCATION:The Cathedral Basilica of St. Francis of Assisi\, 131 Cathedral Pl\, Santa Fe\, NM\, 87501\, United States
CATEGORIES:Concert Program
ATTACH;FMTTYPE=image/png:https://desertchorale.org/wp2021/wp-content/uploads/Renaissance-Splendor_EVENTS-MENU.png
END:VEVENT
BEGIN:VEVENT
DTSTART;TZID=America/Denver:20260802T160000
DTEND;TZID=America/Denver:20260802T173000
DTSTAMP:20260423T005746
CREATED:20251211T132345Z
LAST-MODIFIED:20251211T132533Z
UID:10000151-1785686400-1785691800@desertchorale.org
SUMMARY:Homecoming
DESCRIPTION:
URL:https://desertchorale.org/event/homecoming/2026-08-02/
LOCATION:The Cathedral Basilica of St. Francis of Assisi\, 131 Cathedral Pl\, Santa Fe\, NM\, 87501\, United States
CATEGORIES:Concert Program
ATTACH;FMTTYPE=image/png:https://desertchorale.org/wp2021/wp-content/uploads/Homecoming_EVENTS-MENU.png
END:VEVENT
BEGIN:VEVENT
DTSTART;TZID=America/Denver:20261212T193000
DTEND;TZID=America/Denver:20261212T210000
DTSTAMP:20260423T005746
CREATED:20251211T140133Z
LAST-MODIFIED:20251211T140541Z
UID:10000163-1797103800-1797109200@desertchorale.org
SUMMARY:Carols & Lullabies
DESCRIPTION:
URL:https://desertchorale.org/event/carols-lullabies-3/2026-12-12/
LOCATION:The Cathedral Basilica of St. Francis of Assisi\, 131 Cathedral Pl\, Santa Fe\, NM\, 87501\, United States
CATEGORIES:Concert Program
ATTACH;FMTTYPE=image/png:https://desertchorale.org/wp2021/wp-content/uploads/2026CL_EVENTS-MENU.png
END:VEVENT
BEGIN:VEVENT
DTSTART;TZID=America/Denver:20261213T160000
DTEND;TZID=America/Denver:20261213T173000
DTSTAMP:20260423T005746
CREATED:20251211T140425Z
LAST-MODIFIED:20251211T140425Z
UID:10000171-1797177600-1797183000@desertchorale.org
SUMMARY:Carols & Lullabies
DESCRIPTION:
URL:https://desertchorale.org/event/carols-lullabies-4/
LOCATION:First Presbyterian Church\, Albuquerque\, 215 Locust Street NE\, Albuquerque\, 87102\, United States
CATEGORIES:Concert Program
ATTACH;FMTTYPE=image/png:https://desertchorale.org/wp2021/wp-content/uploads/2026CL_EVENTS-MENU.png
END:VEVENT
BEGIN:VEVENT
DTSTART;TZID=America/Denver:20261215T190000
DTEND;TZID=America/Denver:20261215T203000
DTSTAMP:20260423T005746
CREATED:20251211T140133Z
LAST-MODIFIED:20251211T140541Z
UID:10000164-1797361200-1797366600@desertchorale.org
SUMMARY:Carols & Lullabies
DESCRIPTION:
URL:https://desertchorale.org/event/carols-lullabies-3/2026-12-15/
LOCATION:The Cathedral Basilica of St. Francis of Assisi\, 131 Cathedral Pl\, Santa Fe\, NM\, 87501\, United States
CATEGORIES:Concert Program
ATTACH;FMTTYPE=image/png:https://desertchorale.org/wp2021/wp-content/uploads/2026CL_EVENTS-MENU.png
END:VEVENT
BEGIN:VEVENT
DTSTART;TZID=America/Denver:20261217T190000
DTEND;TZID=America/Denver:20261217T203000
DTSTAMP:20260423T005746
CREATED:20251211T140133Z
LAST-MODIFIED:20251211T140541Z
UID:10000165-1797534000-1797539400@desertchorale.org
SUMMARY:Carols & Lullabies
DESCRIPTION:
URL:https://desertchorale.org/event/carols-lullabies-3/2026-12-17/
LOCATION:The Cathedral Basilica of St. Francis of Assisi\, 131 Cathedral Pl\, Santa Fe\, NM\, 87501\, United States
CATEGORIES:Concert Program
ATTACH;FMTTYPE=image/png:https://desertchorale.org/wp2021/wp-content/uploads/2026CL_EVENTS-MENU.png
END:VEVENT
BEGIN:VEVENT
DTSTART;TZID=America/Denver:20261218T190000
DTEND;TZID=America/Denver:20261218T203000
DTSTAMP:20260423T005746
CREATED:20251211T140133Z
LAST-MODIFIED:20251211T140541Z
UID:10000166-1797620400-1797625800@desertchorale.org
SUMMARY:Carols & Lullabies
DESCRIPTION:
URL:https://desertchorale.org/event/carols-lullabies-3/2026-12-18/
LOCATION:The Cathedral Basilica of St. Francis of Assisi\, 131 Cathedral Pl\, Santa Fe\, NM\, 87501\, United States
CATEGORIES:Concert Program
ATTACH;FMTTYPE=image/png:https://desertchorale.org/wp2021/wp-content/uploads/2026CL_EVENTS-MENU.png
END:VEVENT
BEGIN:VEVENT
DTSTART;TZID=America/Denver:20261219T193000
DTEND;TZID=America/Denver:20261219T210000
DTSTAMP:20260423T005746
CREATED:20251211T140133Z
LAST-MODIFIED:20251211T140541Z
UID:10000167-1797708600-1797714000@desertchorale.org
SUMMARY:Carols & Lullabies
DESCRIPTION:
URL:https://desertchorale.org/event/carols-lullabies-3/2026-12-19/
LOCATION:The Cathedral Basilica of St. Francis of Assisi\, 131 Cathedral Pl\, Santa Fe\, NM\, 87501\, United States
CATEGORIES:Concert Program
ATTACH;FMTTYPE=image/png:https://desertchorale.org/wp2021/wp-content/uploads/2026CL_EVENTS-MENU.png
END:VEVENT
BEGIN:VEVENT
DTSTART;TZID=America/Denver:20261220T160000
DTEND;TZID=America/Denver:20261220T173000
DTSTAMP:20260423T005746
CREATED:20251211T140133Z
LAST-MODIFIED:20251211T140541Z
UID:10000168-1797782400-1797787800@desertchorale.org
SUMMARY:Carols & Lullabies
DESCRIPTION:
URL:https://desertchorale.org/event/carols-lullabies-3/2026-12-20/1/
LOCATION:The Cathedral Basilica of St. Francis of Assisi\, 131 Cathedral Pl\, Santa Fe\, NM\, 87501\, United States
CATEGORIES:Concert Program
ATTACH;FMTTYPE=image/png:https://desertchorale.org/wp2021/wp-content/uploads/2026CL_EVENTS-MENU.png
END:VEVENT
BEGIN:VEVENT
DTSTART;TZID=America/Denver:20261220T193000
DTEND;TZID=America/Denver:20261220T210000
DTSTAMP:20260423T005746
CREATED:20251211T140133Z
LAST-MODIFIED:20251211T140541Z
UID:10000169-1797795000-1797800400@desertchorale.org
SUMMARY:Carols & Lullabies
DESCRIPTION:
URL:https://desertchorale.org/event/carols-lullabies-3/2026-12-20/2/
LOCATION:The Cathedral Basilica of St. Francis of Assisi\, 131 Cathedral Pl\, Santa Fe\, NM\, 87501\, United States
CATEGORIES:Concert Program
ATTACH;FMTTYPE=image/png:https://desertchorale.org/wp2021/wp-content/uploads/2026CL_EVENTS-MENU.png
END:VEVENT
BEGIN:VEVENT
DTSTART;TZID=America/Denver:20261222T190000
DTEND;TZID=America/Denver:20261222T203000
DTSTAMP:20260423T005746
CREATED:20251211T140133Z
LAST-MODIFIED:20251211T140541Z
UID:10000170-1797966000-1797971400@desertchorale.org
SUMMARY:Carols & Lullabies
DESCRIPTION:
URL:https://desertchorale.org/event/carols-lullabies-3/2026-12-22/
LOCATION:The Cathedral Basilica of St. Francis of Assisi\, 131 Cathedral Pl\, Santa Fe\, NM\, 87501\, United States
CATEGORIES:Concert Program
ATTACH;FMTTYPE=image/png:https://desertchorale.org/wp2021/wp-content/uploads/2026CL_EVENTS-MENU.png
END:VEVENT
END:VCALENDAR