BEGIN:VCALENDAR
VERSION:2.0
PRODID:-//Santa Fe Desert Chorale - ECPv6.15.20//NONSGML v1.0//EN
CALSCALE:GREGORIAN
METHOD:PUBLISH
X-ORIGINAL-URL:https://desertchorale.org
X-WR-CALDESC:Events for Santa Fe Desert Chorale
REFRESH-INTERVAL;VALUE=DURATION:PT1H
X-Robots-Tag:noindex
X-PUBLISHED-TTL:PT1H
BEGIN:VTIMEZONE
TZID:America/Denver
BEGIN:DAYLIGHT
TZOFFSETFROM:-0700
TZOFFSETTO:-0600
TZNAME:MDT
DTSTART:20240310T090000
END:DAYLIGHT
BEGIN:STANDARD
TZOFFSETFROM:-0600
TZOFFSETTO:-0700
TZNAME:MST
DTSTART:20241103T080000
END:STANDARD
BEGIN:DAYLIGHT
TZOFFSETFROM:-0700
TZOFFSETTO:-0600
TZNAME:MDT
DTSTART:20250309T090000
END:DAYLIGHT
BEGIN:STANDARD
TZOFFSETFROM:-0600
TZOFFSETTO:-0700
TZNAME:MST
DTSTART:20251102T080000
END:STANDARD
BEGIN:DAYLIGHT
TZOFFSETFROM:-0700
TZOFFSETTO:-0600
TZNAME:MDT
DTSTART:20260308T090000
END:DAYLIGHT
BEGIN:STANDARD
TZOFFSETFROM:-0600
TZOFFSETTO:-0700
TZNAME:MST
DTSTART:20261101T080000
END:STANDARD
BEGIN:DAYLIGHT
TZOFFSETFROM:-0700
TZOFFSETTO:-0600
TZNAME:MDT
DTSTART:20270314T090000
END:DAYLIGHT
BEGIN:STANDARD
TZOFFSETFROM:-0600
TZOFFSETTO:-0700
TZNAME:MST
DTSTART:20271107T080000
END:STANDARD
END:VTIMEZONE
BEGIN:VEVENT
DTSTART;TZID=America/Denver:20250726T130000
DTEND;TZID=America/Denver:20250726T143000
DTSTAMP:20260424T003742
CREATED:20241203T163001Z
LAST-MODIFIED:20250417T220216Z
UID:10000106-1753534800-1753540200@desertchorale.org
SUMMARY:Cantos y Cuentos
DESCRIPTION:
URL:https://desertchorale.org/event/cantos-y-cuentos-2/
LOCATION:Cristo Rey Catholic Church\, 1120 Canyon Rd\, Santa Fe\, NM\, 87501\, United States
CATEGORIES:Concert Program
ATTACH;FMTTYPE=image/png:https://desertchorale.org/wp2021/wp-content/uploads/2025_ConcertsPage_CUENTOS_1920x1080R-1.png
END:VEVENT
BEGIN:VEVENT
DTSTART;TZID=America/Denver:20250727T160000
DTEND;TZID=America/Denver:20250727T173000
DTSTAMP:20260424T003742
CREATED:20250205T231931Z
LAST-MODIFIED:20250417T221536Z
UID:10000133-1753632000-1753637400@desertchorale.org
SUMMARY:Roots & Rivers
DESCRIPTION:
URL:https://desertchorale.org/event/roots-rivers-3/2025-07-27/
LOCATION:The Cathedral Basilica of St. Francis of Assisi\, 131 Cathedral Pl\, Santa Fe\, NM\, 87501\, United States
CATEGORIES:Concert Program
ATTACH;FMTTYPE=image/png:https://desertchorale.org/wp2021/wp-content/uploads/2025_ConcertsPage_ROOTS_1920x1080R.png
END:VEVENT
BEGIN:VEVENT
DTSTART;TZID=America/Denver:20250729T193000
DTEND;TZID=America/Denver:20250729T210000
DTSTAMP:20260424T003742
CREATED:20241203T163009Z
LAST-MODIFIED:20250417T221844Z
UID:10000107-1753817400-1753822800@desertchorale.org
SUMMARY:Cantos y Cuentos
DESCRIPTION:
URL:https://desertchorale.org/event/cantos-y-cuentos/2025-07-29/
LOCATION:The Cathedral Basilica of St. Francis of Assisi\, 131 Cathedral Pl\, Santa Fe\, NM\, 87501\, United States
CATEGORIES:Concert Program
ATTACH;FMTTYPE=image/png:https://desertchorale.org/wp2021/wp-content/uploads/2025_ConcertsPage_CUENTOS_1920x1080R-1.png
END:VEVENT
BEGIN:VEVENT
DTSTART;TZID=America/Denver:20250730T160000
DTEND;TZID=America/Denver:20250730T170000
DTSTAMP:20260424T003742
CREATED:20241211T031109Z
LAST-MODIFIED:20241211T031109Z
UID:10000122-1753891200-1753894800@desertchorale.org
SUMMARY:2025 Artist Spotlight Recital
DESCRIPTION:Our professional singers not only blend seamlessly in an ensemble—they also shine on the solo stage! Three of your favorite Desert Chorale artists come together for an art song recital in the intimate\, surround-sound setting of St. Bede’s Episcopal Church. Sneak out of the office early and treat yourself to an afternoon filled with profound poetry and soaring melodies.
URL:https://desertchorale.org/event/2025-artist-spotlight-recital/
LOCATION:St. Bede’s Episcopal Church\, 550 W San Mateo Rd\, Santa Fe\, NM\, 87505\, United States
CATEGORIES:Concert Program
ATTACH;FMTTYPE=image/png:https://desertchorale.org/wp2021/wp-content/uploads/Spotlight-Recital-16-9.png
END:VEVENT
BEGIN:VEVENT
DTSTART;TZID=America/Denver:20250731T193000
DTEND;TZID=America/Denver:20250731T210000
DTSTAMP:20260424T003742
CREATED:20241203T163029Z
LAST-MODIFIED:20250417T221723Z
UID:10000111-1753990200-1753995600@desertchorale.org
SUMMARY:Mass for the Endangered
DESCRIPTION:
URL:https://desertchorale.org/event/mass-for-the-endangered/2025-07-31/
LOCATION:The Cathedral Basilica of St. Francis of Assisi\, 131 Cathedral Pl\, Santa Fe\, NM\, 87501\, United States
CATEGORIES:Concert Program
ATTACH;FMTTYPE=image/png:https://desertchorale.org/wp2021/wp-content/uploads/2025_ConcertsPage_MASS_1920x1080R.png
END:VEVENT
BEGIN:VEVENT
DTSTART;TZID=America/Denver:20250801T193000
DTEND;TZID=America/Denver:20250801T210000
DTSTAMP:20260424T003742
CREATED:20241203T163018Z
LAST-MODIFIED:20250417T220057Z
UID:10000127-1754076600-1754082000@desertchorale.org
SUMMARY:Roots & Rivers
DESCRIPTION:
URL:https://desertchorale.org/event/roots-rivers/2025-08-01/
LOCATION:The Cathedral Basilica of St. Francis of Assisi\, 131 Cathedral Pl\, Santa Fe\, NM\, 87501\, United States
CATEGORIES:Concert Program
ATTACH;FMTTYPE=image/png:https://desertchorale.org/wp2021/wp-content/uploads/2025_ConcertsPage_ROOTS_1920x1080R.png
END:VEVENT
BEGIN:VEVENT
DTSTART;TZID=America/Denver:20251213T190000
DTEND;TZID=America/Denver:20251213T203000
DTSTAMP:20260424T003742
CREATED:20241203T163045Z
LAST-MODIFIED:20251014T175540Z
UID:10000115-1765652400-1765657800@desertchorale.org
SUMMARY:Carols & Lullabies
DESCRIPTION:
URL:https://desertchorale.org/event/carols-lullabies/2025-12-13/
LOCATION:The Cathedral Basilica of St. Francis of Assisi\, 131 Cathedral Pl\, Santa Fe\, NM\, 87501\, United States
CATEGORIES:Concert Program
ATTACH;FMTTYPE=image/png:https://desertchorale.org/wp2021/wp-content/uploads/2025_ConcertsPage_CAROLS_1920x1080R.png
END:VEVENT
BEGIN:VEVENT
DTSTART;TZID=America/Denver:20251214T160000
DTEND;TZID=America/Denver:20251214T173000
DTSTAMP:20260424T003742
CREATED:20241203T163005Z
LAST-MODIFIED:20251014T175638Z
UID:10000116-1765728000-1765733400@desertchorale.org
SUMMARY:Carols & Lullabies
DESCRIPTION:
URL:https://desertchorale.org/event/carols-lullabies-2/
LOCATION:Immanuel Presbyterian\, 114 Carlisle Blvd SE\, Albuquerque\, NM\, 87106\, United States
CATEGORIES:Concert Program
ATTACH;FMTTYPE=image/png:https://desertchorale.org/wp2021/wp-content/uploads/2025_ConcertsPage_CAROLS_1920x1080R.png
END:VEVENT
BEGIN:VEVENT
DTSTART;TZID=America/Denver:20251216T190000
DTEND;TZID=America/Denver:20251216T203000
DTSTAMP:20260424T003742
CREATED:20241203T163045Z
LAST-MODIFIED:20251014T175540Z
UID:10000117-1765911600-1765917000@desertchorale.org
SUMMARY:Carols & Lullabies
DESCRIPTION:
URL:https://desertchorale.org/event/carols-lullabies/2025-12-16/
LOCATION:The Cathedral Basilica of St. Francis of Assisi\, 131 Cathedral Pl\, Santa Fe\, NM\, 87501\, United States
CATEGORIES:Concert Program
ATTACH;FMTTYPE=image/png:https://desertchorale.org/wp2021/wp-content/uploads/2025_ConcertsPage_CAROLS_1920x1080R.png
END:VEVENT
BEGIN:VEVENT
DTSTART;TZID=America/Denver:20251218T190000
DTEND;TZID=America/Denver:20251218T203000
DTSTAMP:20260424T003742
CREATED:20241203T163045Z
LAST-MODIFIED:20251014T175540Z
UID:10000118-1766084400-1766089800@desertchorale.org
SUMMARY:Carols & Lullabies
DESCRIPTION:
URL:https://desertchorale.org/event/carols-lullabies/2025-12-18/
LOCATION:The Cathedral Basilica of St. Francis of Assisi\, 131 Cathedral Pl\, Santa Fe\, NM\, 87501\, United States
CATEGORIES:Concert Program
ATTACH;FMTTYPE=image/png:https://desertchorale.org/wp2021/wp-content/uploads/2025_ConcertsPage_CAROLS_1920x1080R.png
END:VEVENT
BEGIN:VEVENT
DTSTART;TZID=America/Denver:20251219T190000
DTEND;TZID=America/Denver:20251219T203000
DTSTAMP:20260424T003742
CREATED:20241203T163045Z
LAST-MODIFIED:20251014T175540Z
UID:10000119-1766170800-1766176200@desertchorale.org
SUMMARY:Carols & Lullabies
DESCRIPTION:
URL:https://desertchorale.org/event/carols-lullabies/2025-12-19/
LOCATION:The Cathedral Basilica of St. Francis of Assisi\, 131 Cathedral Pl\, Santa Fe\, NM\, 87501\, United States
CATEGORIES:Concert Program
ATTACH;FMTTYPE=image/png:https://desertchorale.org/wp2021/wp-content/uploads/2025_ConcertsPage_CAROLS_1920x1080R.png
END:VEVENT
BEGIN:VEVENT
DTSTART;TZID=America/Denver:20251220T190000
DTEND;TZID=America/Denver:20251220T203000
DTSTAMP:20260424T003742
CREATED:20241203T163045Z
LAST-MODIFIED:20251014T175540Z
UID:10000120-1766257200-1766262600@desertchorale.org
SUMMARY:Carols & Lullabies
DESCRIPTION:
URL:https://desertchorale.org/event/carols-lullabies/2025-12-20/
LOCATION:The Cathedral Basilica of St. Francis of Assisi\, 131 Cathedral Pl\, Santa Fe\, NM\, 87501\, United States
CATEGORIES:Concert Program
ATTACH;FMTTYPE=image/png:https://desertchorale.org/wp2021/wp-content/uploads/2025_ConcertsPage_CAROLS_1920x1080R.png
END:VEVENT
BEGIN:VEVENT
DTSTART;TZID=America/Denver:20251221T160000
DTEND;TZID=America/Denver:20251221T173000
DTSTAMP:20260424T003742
CREATED:20241203T163045Z
LAST-MODIFIED:20251014T175540Z
UID:10000121-1766332800-1766338200@desertchorale.org
SUMMARY:Carols & Lullabies
DESCRIPTION:
URL:https://desertchorale.org/event/carols-lullabies/2025-12-21/
LOCATION:The Cathedral Basilica of St. Francis of Assisi\, 131 Cathedral Pl\, Santa Fe\, NM\, 87501\, United States
CATEGORIES:Concert Program
ATTACH;FMTTYPE=image/png:https://desertchorale.org/wp2021/wp-content/uploads/2025_ConcertsPage_CAROLS_1920x1080R.png
END:VEVENT
BEGIN:VEVENT
DTSTART;TZID=America/Denver:20260712T160000
DTEND;TZID=America/Denver:20260712T173000
DTSTAMP:20260424T003742
CREATED:20251211T130659Z
LAST-MODIFIED:20251211T130717Z
UID:10000143-1783872000-1783877400@desertchorale.org
SUMMARY:Renaissance Splendor
DESCRIPTION:
URL:https://desertchorale.org/event/renaissance-splendor/2026-07-12/
LOCATION:The Cathedral Basilica of St. Francis of Assisi\, 131 Cathedral Pl\, Santa Fe\, NM\, 87501\, United States
CATEGORIES:Concert Program
ATTACH;FMTTYPE=image/png:https://desertchorale.org/wp2021/wp-content/uploads/Renaissance-Splendor_EVENTS-MENU.png
END:VEVENT
BEGIN:VEVENT
DTSTART;TZID=America/Denver:20260719T160000
DTEND;TZID=America/Denver:20260719T173000
DTSTAMP:20260424T003742
CREATED:20251211T132345Z
LAST-MODIFIED:20251211T132533Z
UID:10000149-1784476800-1784482200@desertchorale.org
SUMMARY:Homecoming
DESCRIPTION:
URL:https://desertchorale.org/event/homecoming/2026-07-19/
LOCATION:The Cathedral Basilica of St. Francis of Assisi\, 131 Cathedral Pl\, Santa Fe\, NM\, 87501\, United States
CATEGORIES:Concert Program
ATTACH;FMTTYPE=image/png:https://desertchorale.org/wp2021/wp-content/uploads/Homecoming_EVENTS-MENU.png
END:VEVENT
BEGIN:VEVENT
DTSTART;TZID=America/Denver:20260723T193000
DTEND;TZID=America/Denver:20260723T210000
DTSTAMP:20260424T003742
CREATED:20251211T133017Z
LAST-MODIFIED:20260213T204747Z
UID:10000155-1784835000-1784840400@desertchorale.org
SUMMARY:Rachmaninoff's All-Night Vigil
DESCRIPTION:
URL:https://desertchorale.org/event/rachmaninoffs-all-night-vigil/2026-07-23/
LOCATION:The Cathedral Basilica of St. Francis of Assisi\, 131 Cathedral Pl\, Santa Fe\, NM\, 87501\, United States
CATEGORIES:Concert Program
ATTACH;FMTTYPE=image/png:https://desertchorale.org/wp2021/wp-content/uploads/Rachmaninoff-Vespers_EVENTS-MENU.png
END:VEVENT
BEGIN:VEVENT
DTSTART;TZID=America/Denver:20260724T193000
DTEND;TZID=America/Denver:20260724T210000
DTSTAMP:20260424T003742
CREATED:20251211T132345Z
LAST-MODIFIED:20251211T132533Z
UID:10000150-1784921400-1784926800@desertchorale.org
SUMMARY:Homecoming
DESCRIPTION:
URL:https://desertchorale.org/event/homecoming/2026-07-24/
LOCATION:The Cathedral Basilica of St. Francis of Assisi\, 131 Cathedral Pl\, Santa Fe\, NM\, 87501\, United States
CATEGORIES:Concert Program
ATTACH;FMTTYPE=image/png:https://desertchorale.org/wp2021/wp-content/uploads/Homecoming_EVENTS-MENU.png
END:VEVENT
BEGIN:VEVENT
DTSTART;TZID=America/Denver:20260725T180000
DTEND;TZID=America/Denver:20260725T193000
DTSTAMP:20260424T003742
CREATED:20251211T133406Z
LAST-MODIFIED:20251211T133612Z
UID:10000157-1785002400-1785007800@desertchorale.org
SUMMARY:Rachmaninoff's All-Night Vigil
DESCRIPTION:
URL:https://desertchorale.org/event/rachmaninoffs-all-night-vigil-2/
LOCATION:Episcopal Cathedral of St. John\, 318 Silver Ave SW\, Albuquerque\, 87102\, United States
CATEGORIES:Concert Program
ATTACH;FMTTYPE=image/png:https://desertchorale.org/wp2021/wp-content/uploads/Rachmaninoff-Vespers_EVENTS-MENU.png
END:VEVENT
BEGIN:VEVENT
DTSTART;TZID=America/Denver:20260726T160000
DTEND;TZID=America/Denver:20260726T173000
DTSTAMP:20260424T003742
CREATED:20251211T133017Z
LAST-MODIFIED:20260213T204747Z
UID:10000179-1785081600-1785087000@desertchorale.org
SUMMARY:Rachmaninoff's All-Night Vigil
DESCRIPTION:
URL:https://desertchorale.org/event/rachmaninoffs-all-night-vigil/2026-07-26/
LOCATION:The Cathedral Basilica of St. Francis of Assisi\, 131 Cathedral Pl\, Santa Fe\, NM\, 87501\, United States
CATEGORIES:Concert Program
ATTACH;FMTTYPE=image/png:https://desertchorale.org/wp2021/wp-content/uploads/Rachmaninoff-Vespers_EVENTS-MENU.png
END:VEVENT
BEGIN:VEVENT
DTSTART;TZID=America/Denver:20260728T193000
DTEND;TZID=America/Denver:20260728T210000
DTSTAMP:20260424T003742
CREATED:20251211T130659Z
LAST-MODIFIED:20251211T130717Z
UID:10000144-1785267000-1785272400@desertchorale.org
SUMMARY:Renaissance Splendor
DESCRIPTION:
URL:https://desertchorale.org/event/renaissance-splendor/2026-07-28/
LOCATION:The Cathedral Basilica of St. Francis of Assisi\, 131 Cathedral Pl\, Santa Fe\, NM\, 87501\, United States
CATEGORIES:Concert Program
ATTACH;FMTTYPE=image/png:https://desertchorale.org/wp2021/wp-content/uploads/Renaissance-Splendor_EVENTS-MENU.png
END:VEVENT
BEGIN:VEVENT
DTSTART;TZID=America/Denver:20260729T160000
DTEND;TZID=America/Denver:20260729T173000
DTSTAMP:20260424T003742
CREATED:20251211T133856Z
LAST-MODIFIED:20251211T133931Z
UID:10000159-1785340800-1785346200@desertchorale.org
SUMMARY:Artist Spotlight Recital
DESCRIPTION:
URL:https://desertchorale.org/event/artist-spotlight/
LOCATION:The Cathedral Basilica of St. Francis of Assisi\, 131 Cathedral Pl\, Santa Fe\, NM\, 87501\, United States
CATEGORIES:Concert Program
ATTACH;FMTTYPE=image/png:https://desertchorale.org/wp2021/wp-content/uploads/Artist-Spotlight-Recital_EVENTS-MENU.png
END:VEVENT
BEGIN:VEVENT
DTSTART;TZID=America/Denver:20260730T193000
DTEND;TZID=America/Denver:20260730T210000
DTSTAMP:20260424T003742
CREATED:20251211T133017Z
LAST-MODIFIED:20260213T204747Z
UID:10000156-1785439800-1785445200@desertchorale.org
SUMMARY:Rachmaninoff's All-Night Vigil
DESCRIPTION:
URL:https://desertchorale.org/event/rachmaninoffs-all-night-vigil/2026-07-30/
LOCATION:The Cathedral Basilica of St. Francis of Assisi\, 131 Cathedral Pl\, Santa Fe\, NM\, 87501\, United States
CATEGORIES:Concert Program
ATTACH;FMTTYPE=image/png:https://desertchorale.org/wp2021/wp-content/uploads/Rachmaninoff-Vespers_EVENTS-MENU.png
END:VEVENT
BEGIN:VEVENT
DTSTART;TZID=America/Denver:20260801T193000
DTEND;TZID=America/Denver:20260801T210000
DTSTAMP:20260424T003742
CREATED:20251211T130659Z
LAST-MODIFIED:20251211T130717Z
UID:10000145-1785612600-1785618000@desertchorale.org
SUMMARY:Renaissance Splendor
DESCRIPTION:
URL:https://desertchorale.org/event/renaissance-splendor/2026-08-01/
LOCATION:The Cathedral Basilica of St. Francis of Assisi\, 131 Cathedral Pl\, Santa Fe\, NM\, 87501\, United States
CATEGORIES:Concert Program
ATTACH;FMTTYPE=image/png:https://desertchorale.org/wp2021/wp-content/uploads/Renaissance-Splendor_EVENTS-MENU.png
END:VEVENT
BEGIN:VEVENT
DTSTART;TZID=America/Denver:20260802T160000
DTEND;TZID=America/Denver:20260802T173000
DTSTAMP:20260424T003742
CREATED:20251211T132345Z
LAST-MODIFIED:20251211T132533Z
UID:10000151-1785686400-1785691800@desertchorale.org
SUMMARY:Homecoming
DESCRIPTION:
URL:https://desertchorale.org/event/homecoming/2026-08-02/
LOCATION:The Cathedral Basilica of St. Francis of Assisi\, 131 Cathedral Pl\, Santa Fe\, NM\, 87501\, United States
CATEGORIES:Concert Program
ATTACH;FMTTYPE=image/png:https://desertchorale.org/wp2021/wp-content/uploads/Homecoming_EVENTS-MENU.png
END:VEVENT
BEGIN:VEVENT
DTSTART;TZID=America/Denver:20261212T193000
DTEND;TZID=America/Denver:20261212T210000
DTSTAMP:20260424T003742
CREATED:20251211T140133Z
LAST-MODIFIED:20251211T140541Z
UID:10000163-1797103800-1797109200@desertchorale.org
SUMMARY:Carols & Lullabies
DESCRIPTION:
URL:https://desertchorale.org/event/carols-lullabies-3/2026-12-12/
LOCATION:The Cathedral Basilica of St. Francis of Assisi\, 131 Cathedral Pl\, Santa Fe\, NM\, 87501\, United States
CATEGORIES:Concert Program
ATTACH;FMTTYPE=image/png:https://desertchorale.org/wp2021/wp-content/uploads/2026CL_EVENTS-MENU.png
END:VEVENT
BEGIN:VEVENT
DTSTART;TZID=America/Denver:20261213T160000
DTEND;TZID=America/Denver:20261213T173000
DTSTAMP:20260424T003742
CREATED:20251211T140425Z
LAST-MODIFIED:20251211T140425Z
UID:10000171-1797177600-1797183000@desertchorale.org
SUMMARY:Carols & Lullabies
DESCRIPTION:
URL:https://desertchorale.org/event/carols-lullabies-4/
LOCATION:First Presbyterian Church\, Albuquerque\, 215 Locust Street NE\, Albuquerque\, 87102\, United States
CATEGORIES:Concert Program
ATTACH;FMTTYPE=image/png:https://desertchorale.org/wp2021/wp-content/uploads/2026CL_EVENTS-MENU.png
END:VEVENT
BEGIN:VEVENT
DTSTART;TZID=America/Denver:20261215T190000
DTEND;TZID=America/Denver:20261215T203000
DTSTAMP:20260424T003742
CREATED:20251211T140133Z
LAST-MODIFIED:20251211T140541Z
UID:10000164-1797361200-1797366600@desertchorale.org
SUMMARY:Carols & Lullabies
DESCRIPTION:
URL:https://desertchorale.org/event/carols-lullabies-3/2026-12-15/
LOCATION:The Cathedral Basilica of St. Francis of Assisi\, 131 Cathedral Pl\, Santa Fe\, NM\, 87501\, United States
CATEGORIES:Concert Program
ATTACH;FMTTYPE=image/png:https://desertchorale.org/wp2021/wp-content/uploads/2026CL_EVENTS-MENU.png
END:VEVENT
BEGIN:VEVENT
DTSTART;TZID=America/Denver:20261217T190000
DTEND;TZID=America/Denver:20261217T203000
DTSTAMP:20260424T003742
CREATED:20251211T140133Z
LAST-MODIFIED:20251211T140541Z
UID:10000165-1797534000-1797539400@desertchorale.org
SUMMARY:Carols & Lullabies
DESCRIPTION:
URL:https://desertchorale.org/event/carols-lullabies-3/2026-12-17/
LOCATION:The Cathedral Basilica of St. Francis of Assisi\, 131 Cathedral Pl\, Santa Fe\, NM\, 87501\, United States
CATEGORIES:Concert Program
ATTACH;FMTTYPE=image/png:https://desertchorale.org/wp2021/wp-content/uploads/2026CL_EVENTS-MENU.png
END:VEVENT
BEGIN:VEVENT
DTSTART;TZID=America/Denver:20261218T190000
DTEND;TZID=America/Denver:20261218T203000
DTSTAMP:20260424T003742
CREATED:20251211T140133Z
LAST-MODIFIED:20251211T140541Z
UID:10000166-1797620400-1797625800@desertchorale.org
SUMMARY:Carols & Lullabies
DESCRIPTION:
URL:https://desertchorale.org/event/carols-lullabies-3/2026-12-18/
LOCATION:The Cathedral Basilica of St. Francis of Assisi\, 131 Cathedral Pl\, Santa Fe\, NM\, 87501\, United States
CATEGORIES:Concert Program
ATTACH;FMTTYPE=image/png:https://desertchorale.org/wp2021/wp-content/uploads/2026CL_EVENTS-MENU.png
END:VEVENT
BEGIN:VEVENT
DTSTART;TZID=America/Denver:20261219T193000
DTEND;TZID=America/Denver:20261219T210000
DTSTAMP:20260424T003742
CREATED:20251211T140133Z
LAST-MODIFIED:20251211T140541Z
UID:10000167-1797708600-1797714000@desertchorale.org
SUMMARY:Carols & Lullabies
DESCRIPTION:
URL:https://desertchorale.org/event/carols-lullabies-3/2026-12-19/
LOCATION:The Cathedral Basilica of St. Francis of Assisi\, 131 Cathedral Pl\, Santa Fe\, NM\, 87501\, United States
CATEGORIES:Concert Program
ATTACH;FMTTYPE=image/png:https://desertchorale.org/wp2021/wp-content/uploads/2026CL_EVENTS-MENU.png
END:VEVENT
END:VCALENDAR