BEGIN:VCALENDAR
VERSION:2.0
PRODID:-//Santa Fe Desert Chorale - ECPv6.15.20//NONSGML v1.0//EN
CALSCALE:GREGORIAN
METHOD:PUBLISH
X-ORIGINAL-URL:https://desertchorale.org
X-WR-CALDESC:Events for Santa Fe Desert Chorale
REFRESH-INTERVAL;VALUE=DURATION:PT1H
X-Robots-Tag:noindex
X-PUBLISHED-TTL:PT1H
BEGIN:VTIMEZONE
TZID:America/Denver
BEGIN:DAYLIGHT
TZOFFSETFROM:-0700
TZOFFSETTO:-0600
TZNAME:MDT
DTSTART:20220313T090000
END:DAYLIGHT
BEGIN:STANDARD
TZOFFSETFROM:-0600
TZOFFSETTO:-0700
TZNAME:MST
DTSTART:20221106T080000
END:STANDARD
BEGIN:DAYLIGHT
TZOFFSETFROM:-0700
TZOFFSETTO:-0600
TZNAME:MDT
DTSTART:20230312T090000
END:DAYLIGHT
BEGIN:STANDARD
TZOFFSETFROM:-0600
TZOFFSETTO:-0700
TZNAME:MST
DTSTART:20231105T080000
END:STANDARD
BEGIN:DAYLIGHT
TZOFFSETFROM:-0700
TZOFFSETTO:-0600
TZNAME:MDT
DTSTART:20240310T090000
END:DAYLIGHT
BEGIN:STANDARD
TZOFFSETFROM:-0600
TZOFFSETTO:-0700
TZNAME:MST
DTSTART:20241103T080000
END:STANDARD
END:VTIMEZONE
BEGIN:VEVENT
DTSTART;TZID=America/Denver:20231209T190000
DTEND;TZID=America/Denver:20231209T203000
DTSTAMP:20260424T151720
CREATED:20221213T220912Z
LAST-MODIFIED:20230317T144027Z
UID:10000059-1702148400-1702153800@desertchorale.org
SUMMARY:Candlelight Carols
DESCRIPTION:Joshua Habermann\, conductor\nIn December\, we invite you to join us for A Glimpse of Snow and Evergreen\, our holiday concert filled with carols honoring the beauty of our winter mountain landscape and the traditions we keep at that special time of the year.
URL:https://desertchorale.org/event/candlelight-carols/
LOCATION:The Cathedral Basilica of St. Francis of Assisi\, 131 Cathedral Pl\, Santa Fe\, NM\, 87501\, United States
CATEGORIES:Concert Program
ATTACH;FMTTYPE=image/jpeg:https://desertchorale.org/wp2021/wp-content/uploads/Candlelight-Carols-Event-Page-image-1.jpg
END:VEVENT
BEGIN:VEVENT
DTSTART;TZID=America/Denver:20231210T160000
DTEND;TZID=America/Denver:20231210T173000
DTSTAMP:20260424T151721
CREATED:20221213T221207Z
LAST-MODIFIED:20230317T144541Z
UID:10000060-1702224000-1702229400@desertchorale.org
SUMMARY:Candlelight Carols
DESCRIPTION:Joshua Habermann\, conductor\nIn December\, we invite you to join us for A Glimpse of Snow and Evergreen\, our holiday concert filled with carols honoring the beauty of our winter mountain landscape and the traditions we keep at that special time of the year.
URL:https://desertchorale.org/event/candlelight-carols-2/
LOCATION:Immanuel Presbyterian\, 114 Carlisle Blvd SE\, Albuquerque\, NM\, 87106\, United States
CATEGORIES:Concert Program
ATTACH;FMTTYPE=image/jpeg:https://desertchorale.org/wp2021/wp-content/uploads/Candlelight-Carols-Event-Page-image-1.jpg
END:VEVENT
BEGIN:VEVENT
DTSTART;TZID=America/Denver:20231215T190000
DTEND;TZID=America/Denver:20231215T203000
DTSTAMP:20260424T151721
CREATED:20221213T221339Z
LAST-MODIFIED:20230317T144505Z
UID:10000061-1702666800-1702672200@desertchorale.org
SUMMARY:Candlelight Carols
DESCRIPTION:Joshua Habermann\, conductor\nIn December\, we invite you to join us for A Glimpse of Snow and Evergreen\, our holiday concert filled with carols honoring the beauty of our winter mountain landscape and the traditions we keep at that special time of the year.
URL:https://desertchorale.org/event/candlelight-carols-3/
LOCATION:The Cathedral Basilica of St. Francis of Assisi\, 131 Cathedral Pl\, Santa Fe\, NM\, 87501\, United States
CATEGORIES:Concert Program
ATTACH;FMTTYPE=image/jpeg:https://desertchorale.org/wp2021/wp-content/uploads/Candlelight-Carols-Event-Page-image-1.jpg
END:VEVENT
BEGIN:VEVENT
DTSTART;TZID=America/Denver:20231217T160000
DTEND;TZID=America/Denver:20231217T173000
DTSTAMP:20260424T151721
CREATED:20221213T221438Z
LAST-MODIFIED:20230317T144439Z
UID:10000062-1702828800-1702834200@desertchorale.org
SUMMARY:Candlelight Carols
DESCRIPTION:Joshua Habermann\, conductor\nIn December\, we invite you to join us for A Glimpse of Snow and Evergreen\, our holiday concert filled with carols honoring the beauty of our winter mountain landscape and the traditions we keep at that special time of the year.
URL:https://desertchorale.org/event/candlelight-carols-4/
LOCATION:The Cathedral Basilica of St. Francis of Assisi\, 131 Cathedral Pl\, Santa Fe\, NM\, 87501\, United States
CATEGORIES:Concert Program
ATTACH;FMTTYPE=image/jpeg:https://desertchorale.org/wp2021/wp-content/uploads/Candlelight-Carols-Event-Page-image-1.jpg
END:VEVENT
BEGIN:VEVENT
DTSTART;TZID=America/Denver:20231219T190000
DTEND;TZID=America/Denver:20231219T203000
DTSTAMP:20260424T151721
CREATED:20221213T221542Z
LAST-MODIFIED:20230317T144401Z
UID:10000063-1703012400-1703017800@desertchorale.org
SUMMARY:Candlelight Carols
DESCRIPTION:Joshua Habermann\, conductor\nIn December\, we invite you to join us for A Glimpse of Snow and Evergreen\, our holiday concert filled with carols honoring the beauty of our winter mountain landscape and the traditions we keep at that special time of the year.
URL:https://desertchorale.org/event/candlelight-carols-5/
LOCATION:The Cathedral Basilica of St. Francis of Assisi\, 131 Cathedral Pl\, Santa Fe\, NM\, 87501\, United States
CATEGORIES:Concert Program
ATTACH;FMTTYPE=image/jpeg:https://desertchorale.org/wp2021/wp-content/uploads/Candlelight-Carols-Event-Page-image-1.jpg
END:VEVENT
BEGIN:VEVENT
DTSTART;TZID=America/Denver:20231220T190000
DTEND;TZID=America/Denver:20231220T203000
DTSTAMP:20260424T151721
CREATED:20221213T221622Z
LAST-MODIFIED:20230317T144334Z
UID:10000064-1703098800-1703104200@desertchorale.org
SUMMARY:Candlelight Carols
DESCRIPTION:Joshua Habermann\, conductor\nIn December\, we invite you to join us for A Glimpse of Snow and Evergreen\, our holiday concert filled with carols honoring the beauty of our winter mountain landscape and the traditions we keep at that special time of the year.
URL:https://desertchorale.org/event/candlelight-carols-6/
LOCATION:The Cathedral Basilica of St. Francis of Assisi\, 131 Cathedral Pl\, Santa Fe\, NM\, 87501\, United States
CATEGORIES:Concert Program
ATTACH;FMTTYPE=image/jpeg:https://desertchorale.org/wp2021/wp-content/uploads/Candlelight-Carols-Event-Page-image-1.jpg
END:VEVENT
BEGIN:VEVENT
DTSTART;TZID=America/Denver:20231221T190000
DTEND;TZID=America/Denver:20231221T203000
DTSTAMP:20260424T151721
CREATED:20221213T221700Z
LAST-MODIFIED:20230317T144306Z
UID:10000065-1703185200-1703190600@desertchorale.org
SUMMARY:Candlelight Carols
DESCRIPTION:Joshua Habermann\, conductor\nIn December\, we invite you to join us for A Glimpse of Snow and Evergreen\, our holiday concert filled with carols honoring the beauty of our winter mountain landscape and the traditions we keep at that special time of the year.
URL:https://desertchorale.org/event/candlelight-carols-7/
LOCATION:The Cathedral Basilica of St. Francis of Assisi\, 131 Cathedral Pl\, Santa Fe\, NM\, 87501\, United States
CATEGORIES:Concert Program
ATTACH;FMTTYPE=image/jpeg:https://desertchorale.org/wp2021/wp-content/uploads/Candlelight-Carols-Event-Page-image-1.jpg
END:VEVENT
BEGIN:VEVENT
DTSTART;TZID=America/Denver:20231222T190000
DTEND;TZID=America/Denver:20231222T203000
DTSTAMP:20260424T151721
CREATED:20221213T221727Z
LAST-MODIFIED:20230317T144240Z
UID:10000066-1703271600-1703277000@desertchorale.org
SUMMARY:Candlelight Carols
DESCRIPTION:Joshua Habermann\, conductor\nIn December\, we invite you to join us for A Glimpse of Snow and Evergreen\, our holiday concert filled with carols honoring the beauty of our winter mountain landscape and the traditions we keep at that special time of the year.
URL:https://desertchorale.org/event/candlelight-carols-8/
LOCATION:The Cathedral Basilica of St. Francis of Assisi\, 131 Cathedral Pl\, Santa Fe\, NM\, 87501\, United States
CATEGORIES:Concert Program
ATTACH;FMTTYPE=image/jpeg:https://desertchorale.org/wp2021/wp-content/uploads/Candlelight-Carols-Event-Page-image-1.jpg
END:VEVENT
END:VCALENDAR